BEGIN:VCALENDAR
VERSION:2.0
PRODID:-//wp-events-plugin.com//7.2.3.1//EN
TZID:Europe/Berlin
X-WR-TIMEZONE:Europe/Berlin
BEGIN:VEVENT
UID:265@bv-trauerbegleitung.de
DTSTART;TZID=Europe/Berlin:20260423T170000
DTEND;TZID=Europe/Berlin:20260423T183000
DTSTAMP:20260309T063057Z
URL:https://bv-trauerbegleitung.de/veranstaltungen/workshop-genogrammarbei
 t-nur-fuer-bvt-mitglieder/
SUMMARY:Workshop „Genogrammarbeit“ – nur für BVT-Mitglieder
DESCRIPTION:Referentin: Christine Kempkes\n\nFamilienbiografische Themen k
 önnen einen Trauerprozess erschweren: zum Beispiel dadurch\, dass die tra
 uernde Person zusätzlich zu ihrem eigenen Schmerz transgenerationale Trau
 er (oder auch Trauma) ihrer Ahnen trägt oder sie unbewusst an eine Positi
 on im Familiensystem gerückt ist\, die ihr gar nicht gehört. In diesem K
 urz-Workshop bekommst Du einen Einblick in die Genogrammarbeit und die Mö
 glichkeiten\, Verstrickungen aufzulösen und die Kraft der Ahnen in die Tr
 auerbegleitung zu integrieren.\n\nDer Workshop befähigt nicht dazu\, ansc
 hließend eigenständig und vollumfänglich familienbiografisch zu arbeite
 n.\n\nAnmeldung hier: https://widgets.yolawo.de/w/69025b8562ae1f3243715ce6
 \n\nDer Workshop ist nur für BVT-Mitglieder.\n\nDer Zoom-Link wird etwa 2
  Tage vor der Veranstaltung versendet.\n\nDie Rechnung über die Teilnahme
 gebühr von 25\,00 Euro erfolgt danach.\n\nWir wünschen einen tollen Work
 shop und viel Freude bei der Teilnahme.
CATEGORIES:Fortbildungen und Workshops
LOCATION:http://Online
END:VEVENT
BEGIN:VTIMEZONE
TZID:Europe/Berlin
X-LIC-LOCATION:Europe/Berlin
BEGIN:DAYLIGHT
DTSTART:20260329T030000
TZOFFSETFROM:+0100
TZOFFSETTO:+0200
TZNAME:CEST
END:DAYLIGHT
END:VTIMEZONE
END:VCALENDAR