BEGIN:VCALENDAR
VERSION:2.0
PRODID:-//wp-events-plugin.com//7.2.3.1//EN
TZID:Europe/Berlin
X-WR-TIMEZONE:Europe/Berlin
BEGIN:VEVENT
UID:264@bv-trauerbegleitung.de
DTSTART;TZID=Europe/Berlin:20260611T190000
DTEND;TZID=Europe/Berlin:20260611T203000
DTSTAMP:20260309T094726Z
URL:https://bv-trauerbegleitung.de/veranstaltungen/workshop-digitale-medie
 n-in-der-trauerbegleitung-nur-fuer-bvt-mitglieder/
SUMMARY:Workshop „Digitale Medien in der Trauerbegleitung“ – nur für
  BVT-Mitglieder
DESCRIPTION:Referentin: Anja Schubert\n\nInternetsuche\, E-Mail und Textna
 chrichten gehören schon längst zu unserem Alltag. Doch wie sieht es aus 
 mit Social Media\, TikTok und Co? Auch künstliche Intelligenz und virtuel
 le Welten spielen eine immer größere Rolle. Der Workshop soll einen Übe
 rblick darüber geben\, welche Möglichkeiten digitale Medien\, vor allem 
 im Bezug auf die Trauerbegleitung\, eröffnen. Ein Austausch über den Ein
 satz neuer Technologien und die damit verbundenen Probleme im Bezug auf Tr
 auer wird den Abschluss des Workshops bilden.\n\nAnmeldung hier: https://w
 idgets.yolawo.de/w/69025b8562ae1f3243715ce6\n\nNur für BVT-Mitglieder!\n\
 nDer Zoom-Link wird etwa 2 Tage vor der Veranstaltung versendet.\n\nDie Re
 chnung über die Teilnahmegebühr von 25\,00 Euro erfolgt danach.\n\nWir w
 ünschen einen tollen Workshop und viel Freude bei der Teilnahme.
CATEGORIES:Fortbildungen und Workshops
LOCATION:http://Online
END:VEVENT
BEGIN:VTIMEZONE
TZID:Europe/Berlin
X-LIC-LOCATION:Europe/Berlin
BEGIN:DAYLIGHT
DTSTART:20260329T030000
TZOFFSETFROM:+0100
TZOFFSETTO:+0200
TZNAME:CEST
END:DAYLIGHT
END:VTIMEZONE
END:VCALENDAR