BEGIN:VCALENDAR
VERSION:2.0
PRODID:-//wp-events-plugin.com//7.2.3.1//EN
TZID:Europe/Berlin
X-WR-TIMEZONE:Europe/Berlin
BEGIN:VEVENT
UID:486@bv-trauerbegleitung.de
DTSTART;TZID=Europe/Berlin:20270319T100000
DTEND;TZID=Europe/Berlin:20271107T173000
DTSTAMP:20260327T162554Z
URL:https://bv-trauerbegleitung.de/veranstaltungen/trauerweiterbildung-144
 -ue/
SUMMARY:Trauerweiterbildung (144 UE)
DESCRIPTION:\n\n\n\n\nDer Trauer begegnen\n\n\n\nDieser Kurs ist zusätzlic
 h zertifiziert durch die Deutsche Gesellschaft für Palliativmedizin und d
 em Deutschen Hospiz- und PalliativVerband e.V.\n\nQualifizierung in der Be
 gleitung trauernder Menschen - März 2027 in Altötting. Dieser Kurs quali
 fiziert nicht für die Vermittlung von Lerninhalten.\n\n\n\n\nDieser Kurs 
 qualifiziert für die kompetente Begleitung Trauernder. Sie lernen zu wiss
 enschaftlichen &amp\; praxisnahen Erkenntnissen im Umgang mit Trauer. Wir 
 begeben uns dabei auf die kognitive\, die pragmatische und die affektiv-sp
 irituelle Ebene. Sie werden als Teilnehmende psycho-emotional und physisch
  in Bewegung sein.\n\n\n\n\n\n\n\n\n\n\n\nInhalte\nWissenschaftliche Erken
 ntnisse\, eigene Trauerbiografie\, Kommunikation mit Trauernden und Gespr
 ächsführung\, Begleitung von Risikotrauer\, Trauer bei Kindern und Jugen
 dlichen\, kultursensible Trauer\, Bedeutung von Schuldgefühlen und Vergeb
 ungskompetenz\, Trauerrituale\, Setting in der Begleitung\, Arbeit mit Tra
 uergruppen\, Trauercafe\, Trauma und Trauer und weitere Themen...\n\n\n\n\
 n\n\n\nAbschluss\nDie 5-modulige Fortbildung umfasst insgesamt 144 UE. Neb
 en den Präsenzmodulen von 120 UE sind 24 UE Selbststudium und Austausch i
 n Form von Intervisionsterminen\, Bedingung für den Erhalt der Zertifikat
 s. Die Qualifizierung erfolgt in Übereinstimmung mit den Qualitätskriter
 ien des deutschen Bundesverbandes Trauerbegleitung e.V.\n\n\n\n\n\n\n\n\n\
 nMethoden\nDie ReferentInnen orientieren sich an den Prinzipien der Erwach
 senenbildung. Ausgewählte Methoden sind: dialogische Präsentation und Er
 fahrungsaustausch\, Einüben der wertschätzenden Grundhaltung\, Partner- 
 und Gruppenübung\, Diskussion\, Selbstreflexion und Selbsterfahrung\, kre
 ative gestalterische Elemente\, Einzelarbeit\, Meditation &amp\; Körperar
 beit.\n\n\n\n\n\n\nTERMIN &amp\; ORT\n\n\n\n\n\n\n\n\n 	1. Modul: 19. bis 
 21. März 2027\n 	2. Modul: 23. bis 25. April 2027\n 	3. Modul: 04. bis 06
 . Juni 2027\n 	4. Modul: 17. bis 19. Sept. 2027\n 	5. Modul: 05. bis 07. N
 ov. 2027\n\nDer Kurs findet im St. Klara Haus in Altötting statt.​\nKOS
 TEN\nca. 2.550\,00 EUR inkl. Tagungspauschale\n\nzzgl. Übernachtungskoste
 n wenn gewünscht und in Selbstorganisation\n\n\n\n\nhttps://www.goldenerb
 ildungsweg.de/qualifizierungskurs-trauerbegleitung.html\nTel.:08143/999534
 \nrmaier@goldenerbildungsweg.de\n\n
ATTACH;FMTTYPE=image/jpeg:https://bv-trauerbegleitung.de/wp/wp-content/upl
 oads/2026/03/BVT_Logo_titel.jpg
CATEGORIES:Fortbildungen und Workshops
END:VEVENT
BEGIN:VTIMEZONE
TZID:Europe/Berlin
X-LIC-LOCATION:Europe/Berlin
BEGIN:STANDARD
DTSTART:20261025T020000
TZOFFSETFROM:+0200
TZOFFSETTO:+0100
TZNAME:CET
END:STANDARD
BEGIN:DAYLIGHT
DTSTART:20270328T030000
TZOFFSETFROM:+0100
TZOFFSETTO:+0200
TZNAME:CEST
END:DAYLIGHT
BEGIN:STANDARD
DTSTART:20271031T020000
TZOFFSETFROM:+0200
TZOFFSETTO:+0100
TZNAME:CET
END:STANDARD
END:VTIMEZONE
END:VCALENDAR