BEGIN:VCALENDAR
VERSION:2.0
PRODID:-//wp-events-plugin.com//7.2.3.1//EN
TZID:Europe/Berlin
X-WR-TIMEZONE:Europe/Berlin
BEGIN:VEVENT
UID:471@bv-trauerbegleitung.de
DTSTART;TZID=Europe/Berlin:20260415T183000
DTEND;TZID=Europe/Berlin:20260715T204500
DTSTAMP:20260320T141359Z
URL:https://bv-trauerbegleitung.de/veranstaltungen/trauern-mit-all-unseren
 -farben-eine-trauergruppe-fuer-queere-menschen/
SUMMARY:Trauern mit all unseren Farben - eine Trauergruppe für queere Mens
 chen
DESCRIPTION:Trauer braucht Raum - besonders dort\, wo schwule\, lesbische u
 nd queere Lebensrealitäten oft übersehen werden. Ab Frühling bietet das
  Münchner Bildungswerk eine Trauergruppe in einem geschützten Raum für 
 queere Menschen an\, die einen Verlust erlebt haben und sich mit anderen B
 etroffenen austauschen möchten.\nBegleitet wird die Gruppe von einer lesb
 ischen Psychologin und einem schwulen Theologen\, die beide mit den Themen
  Trauer\, Identität und queerer Lebenswirklichkeit vertraut sind. Gemeins
 am schaffen wir einen sicheren Ort für Erinnerung\, Schmerz\, Hoffnung un
 d für neue Wege im Umgang mit dem Verlust.\n\nHerzlich eingeladen sind al
 le LGBTQIA+ Personen\, unabhängig von Alter\, Religion oder Herkunft.\n\n
 Kursleitung: Dr. Robert Mucha\n\nKontakt: Anmeldung erforderlich über da
 s Münchner Bildungswerk
CATEGORIES:Angebot für Trauernde
LOCATION:Haus am Ostfriedhof\, St.-Martin-Straße 39\, München\, 81541\, D
 eutschland
X-APPLE-STRUCTURED-LOCATION;VALUE=URI;X-ADDRESS=St.-Martin-Straße 39\, Mü
 nchen\, 81541\, Deutschland;X-APPLE-RADIUS=100;X-TITLE=Haus am Ostfriedhof
 :geo:0,0
END:VEVENT
BEGIN:VTIMEZONE
TZID:Europe/Berlin
X-LIC-LOCATION:Europe/Berlin
BEGIN:DAYLIGHT
DTSTART:20260329T030000
TZOFFSETFROM:+0100
TZOFFSETTO:+0200
TZNAME:CEST
END:DAYLIGHT
END:VTIMEZONE
END:VCALENDAR