BEGIN:VCALENDAR
VERSION:2.0
PRODID:-//wp-events-plugin.com//7.2.3.1//EN
TZID:Europe/Berlin
X-WR-TIMEZONE:Europe/Berlin
BEGIN:VEVENT
UID:247@bv-trauerbegleitung.de
DTSTART;TZID=Europe/Berlin;VALUE=DATE:20260529
DTEND;TZID=Europe/Berlin;VALUE=DATE:20260602
DTSTAMP:20260309T075838Z
URL:https://bv-trauerbegleitung.de/veranstaltungen/trauer-wege-leben-2-tag
 ung-zum-mitwirken/
SUMMARY:„Trauer-Wege-Leben“- 2. Tagung zum MITWIRKEN
DESCRIPTION:Raum zum Mit- und Voneinander-Lernen für Menschen aus der Trau
 er-\, Sterbe-\, Bestattungs- und Lebens-Begleitung und weitere Interessier
 te\n\nLeitung: Petra Hugo\n\nUnsere 1. kleine „Trauer-Wege-Leben“-Tagu
 ng 2024 war so gelungen\, dass sie nun zum zweiten Mal stattfinden wird\, 
 mit bis zu 30 Teilnehmer*innen – zum Wiedersehen und Kennenlernen!\n\nDi
 ese vielseitige kleine Tagung gestalten alle beteiligten Menschen gemeinsa
 m: Alle können etwas Persönliches und Fachliches beitragen und für sich
  finden – in Bezug auf Trauern und Begleiten\, auf Sterben und Bestattun
 gskultur\, auf Lebens-Wege und darüber hinaus.\nEingeladen sind Menschen\
 , die persönlich\, ehrenamtlich oder professionell an diesen Bereichen in
 teressiert bzw. darin tätig sind. Was bringen wir in die Welt – was bra
 uchen wir in dieser Welt? Dazu gehören z.B. Eure beruflichen und persönl
 ichen Wege\, Eure Fähigkeiten\, „Spezialitäten“ und Projekte\, Eure 
 Anliegen\, Ideen und Vernetzung… und was immer Ihr mit- und einbringen m
 öchtet. Wir können unser Lebens- und Fachwissen miteinander teilen\, uns
  verbinden\, und vielleicht in die Zukunft blicken… Nach 35 Jahren Berat
 ungs- und Bildungsarbeit – in vielerlei Bereichen der Trauerbegleitung\,
  Hospizarbeit und Bestattungskultur – widme ich mich nun der „Ernte“
  dieser Zeit\, die auch die Entwicklungszeit der Trauerbegleitung und Hosp
 izarbeit war\, so wie wir sie heute kennen. Dazu dient auch diese Veransta
 ltung.\n\n&nbsp\;\n\nEs gibt in der großen Runde sowie in Open-Space-Work
 shops\, die von Euch angeleitet und besucht werden können\, Raum für * T
 hematische Impulse und Austausch * Methodische Ansätze\, Übungen * Medit
 atives\, Singen und Tanzen * Kreatives und Künsterisches * Symbolarbeit u
 nd Ritual * Infotisch und Vernetzung * Literatur und Filme * Mitgebrachte 
 Anliegen * Sonntagsmatinee mit Liedern\, Texten… Lustiges und Trauriges
 … und was sonst noch das Herz begehrt und sich bis dahin zeigt.\nAlle k
 önnen etwas Persönliches und Fachliches beitragen und/oder für sich fin
 den – in Bezug auf Trauern und Begleiten\, auf Sterben und Bestattungsku
 ltur\, auf Lebens-Wege und darüber hinaus. Eure Erfahrungen und Schätze 
 können ebenso wie Eure Fragen in ein größeres Zusammensein einfließen.
  Ein von mir eingebrachtes Thema wird voraussichtlich sein: Wie können wi
 r uns stärken in diesen Zeiten? Wie können wir wohltuend in die Welt wir
 ken? Und es besteht die Möglichkeit der FachSupervision.\n\n&nbsp\;\n\nF
 ür unsere Tagung ist das Ökodorf Sieben Linden ein wunderbarer Ort mit N
 atur\, Wald und Garten\, mit Ritualplätzen\, Jurte und Haus der Stille\, 
 und mit gutem Essen und Dorf-Treffpunkt „Transzendierbar“. Ich lebe hi
 er seit etlichen Jahren mit der Gemeinschaft und nebenan im Dorf Poppau.\n
 \nWeitere Infos und Anmeldung hier  https://lernort.siebenlinden.org/de/?
 query=trauer-wege-leben\n\nLeitung: Petra Hugo www.trauer-wege-leben.de\n\
 nOrt: Tagungshaus im Ökodorf Sieben Linden
CATEGORIES:Fachtagungen und Messen
LOCATION:Tagungshaus im Ökodorf Sieben Linden\, Sieben Linden 1\, Beetzend
 orf\, 38489\, Deutschland
X-APPLE-STRUCTURED-LOCATION;VALUE=URI;X-ADDRESS=Sieben Linden 1\, Beetzendo
 rf\, 38489\, Deutschland;X-APPLE-RADIUS=100;X-TITLE=Tagungshaus im Ökodor
 f Sieben Linden:geo:0,0
END:VEVENT
BEGIN:VTIMEZONE
TZID:Europe/Berlin
X-LIC-LOCATION:Europe/Berlin
BEGIN:DAYLIGHT
DTSTART:20260329T030000
TZOFFSETFROM:+0100
TZOFFSETTO:+0200
TZNAME:CEST
END:DAYLIGHT
END:VTIMEZONE
END:VCALENDAR