BEGIN:VCALENDAR
VERSION:2.0
PRODID:-//wp-events-plugin.com//7.2.3.1//EN
TZID:Europe/Berlin
X-WR-TIMEZONE:Europe/Berlin
BEGIN:VEVENT
UID:488@bv-trauerbegleitung.de
DTSTART;TZID=Europe/Berlin:20260701T100000
DTEND;TZID=Europe/Berlin:20260701T173000
DTSTAMP:20260327T162104Z
URL:https://bv-trauerbegleitung.de/veranstaltungen/trauer-verstehen-trauer
 nde-unterstuetzen-tages-workshop-online/
SUMMARY:Trauer verstehen – Trauernde unterstützen (Tages-Workshop ONLINE
 )
DESCRIPTION:Was tun\, wenn uns Trauer und Trauernde begegnen? \n\nIm Kontak
 t mit Trauernden erleben wir häufig Unsicherheit oder gar Überforderung:
 \n\nWas kann ich tun? Was sagen? Was ist richtig? Wie bin ich hilfreich?\n
 \nDer Workshop bietet Orientierung und richtet sich an alle\, die sich mit
  den Themen Verlust und Trauer auseinandersetzen wollen. Dabei kann es sic
 h um verschiedene Verlustarten handeln: Nicht nur der Tod\, auch Trennunge
 n\, der Verlust von Arbeit oder Heimat\, der eigenen Gesundheit\, oder and
 ere tiefgreifende Veränderungen\, können Trauerprozesse auslösen.\n\nDi
 eser Workshop ermöglicht es\, Trauer in ihren vielfältigen Facetten bess
 er zu verstehen und anhand persönlicher Erfahrungen die eigenen Trauerrea
 ktionen und Strategien zu reflektieren.\n\nZiel ist es\, Sicherheit zu gew
 innen und neue Handlungsoptionen im Kontakt mit Trauernden zu entwickeln.\
 n\nDanach wird`s leichter!\n\nDer Workshop ist nicht zur Aufarbeitung eige
 ner akuter Trauer geeignet.\nZielgruppe:\nAlle\, die sich für die Themen 
 Trauer und Trauerbegleitung interessieren und bereit sind\, ihre eigenen E
 rfahrungen zu reflektieren und zum Workshop beizutragen\nReferentin:\nAnna
  Rapacz\, Bildungsreferentin und Trauerbegleiterin im Lotsenhaus\nKosten: 
 190 Euro\nSchriftliche Anmeldung unter: www.hamburg-leuchtfeuer.de/lotsenh
 aus/fortbildungen\n\nDen Link zu der Online-Veranstaltung versenden wir ei
 nige Tage vor dem Workshop.
ATTACH;FMTTYPE=image/jpeg:https://bv-trauerbegleitung.de/wp/wp-content/upl
 oads/2026/03/Trauer-verstehen-Trauernde-unterstuetzen-2026-1-pdf.jpg
CATEGORIES:Fortbildungen und Workshops
LOCATION:http://Online
END:VEVENT
BEGIN:VTIMEZONE
TZID:Europe/Berlin
X-LIC-LOCATION:Europe/Berlin
BEGIN:DAYLIGHT
DTSTART:20260329T030000
TZOFFSETFROM:+0100
TZOFFSETTO:+0200
TZNAME:CEST
END:DAYLIGHT
END:VTIMEZONE
END:VCALENDAR