BEGIN:VCALENDAR
VERSION:2.0
PRODID:-//wp-events-plugin.com//7.2.3.1//EN
TZID:Europe/Berlin
X-WR-TIMEZONE:Europe/Berlin
BEGIN:VEVENT
UID:468@bv-trauerbegleitung.de
DTSTART;TZID=Europe/Berlin:20260601T093000
DTEND;TZID=Europe/Berlin:20260601T170000
DTSTAMP:20260320T074412Z
URL:https://bv-trauerbegleitung.de/veranstaltungen/trauer-begleiten-eine-p
 raxisnahe-einfuehrung/
SUMMARY:Trauer begleiten. Eine praxisnahe Einführung
DESCRIPTION:Workshopleitung: Peggy Steinhauser\n\nDieser Tagesworkshop rich
 tet sich an alle\, die die Trauer ihrer Mitmenschen besser verstehen möch
 ten und einen ersten Einblick in die Begleitung trauernder Erwachsener gew
 innen wollen – sei es im privaten\, ehrenamtlichen oder beruflichen Umfe
 ld.\n\nIch gebe Ihnen einen Einblick in die unterschiedlichen Reaktionen u
 nd Strategien bei Verlusterfahrungen. Anhand einzelner Trauermodelle (M. S
 troebe/H. Schut\, W. A. Worden\, C. Paul) erkläre ich Ihnen\, welche Them
 en und Herausforderungen in Trauerprozessen entstehen können und was helf
 en kann. Die theoretischen Erkenntnisse veranschauliche ich mit Beispielen
  aus meiner Praxis\, die Ihnen den Übertrag in Ihren Alltag erleichtern.\
 n\nInhalte\n\n 	Theoretischer Input Trauer und Trauermodellen (M. Stroebe/
 H. Shut\, W. A. Worden\, C. Paul)\n 	Reflexion eigener Reaktionen und Stra
 tegien\n 	Einfache Übungen und Gesprächsimpulse\, die Sicherheit im Kont
 akt mit trauernden Menschen geben\n 	Empfehlungen für eine unterstützend
 e Haltung im Alltag und im Arbeitskontext\n 	Austausch in Kleingruppen\n\n
 Der Schwerpunkt liegt darauf\, Trauer besser zu verstehen\, Unsicherheiten
  abzubauen und die eigene Haltung im Umgang mit Trauer und trauernden Mitm
 enschen zu reflektieren.\n\n Für wen ist der Workshop geeignet?\n\n 	Fü
 r alle Interessierten\, die trauernde Menschen begleiten oder unterstütze
 n möchten\n 	Für Menschen\, die im beruflichen oder privaten Umfeld mit 
 Trauer konfrontiert sind\n 	Als Orientierungshilfe für alle\, die überle
 gen\, eine weiterführende Qualifizierung in der Trauerbegleitung zu begin
 nen.\n\nVorkenntnisse sind nicht erforderlich.\n\nDieser Workshop eignet s
 ich nicht für Personen\, die sich selbst in akuter Trauer befinden.\n\nKo
 sten: 160\,- Euro\n\nKontakt\n\nlebenskunst@peggy-steinhauser.de\n\nInfor
 mationen/Anmeldung\n\nhttps://peggy-steinhauser.de/termine/trauer-begleite
 n/\n\n 
CATEGORIES:Fortbildungen und Workshops
LOCATION:Buddhistisches Stadtzentrum Hamburg Altona\, Bahrenfelder Straße 
 201\, Hamburg-Altona\, 22765\, Deutschland
X-APPLE-STRUCTURED-LOCATION;VALUE=URI;X-ADDRESS=Bahrenfelder Straße 201\, 
 Hamburg-Altona\, 22765\, Deutschland;X-APPLE-RADIUS=100;X-TITLE=Buddhistis
 ches Stadtzentrum Hamburg Altona:geo:0,0
END:VEVENT
BEGIN:VTIMEZONE
TZID:Europe/Berlin
X-LIC-LOCATION:Europe/Berlin
BEGIN:DAYLIGHT
DTSTART:20260329T030000
TZOFFSETFROM:+0100
TZOFFSETTO:+0200
TZNAME:CEST
END:DAYLIGHT
END:VTIMEZONE
END:VCALENDAR