BEGIN:VCALENDAR
VERSION:2.0
PRODID:-//wp-events-plugin.com//7.2.3.1//EN
TZID:Europe/Berlin
X-WR-TIMEZONE:Europe/Berlin
BEGIN:VEVENT
UID:467@bv-trauerbegleitung.de
DTSTART;TZID=Europe/Berlin:20260831T093000
DTEND;TZID=Europe/Berlin:20270223T170000
DTSTAMP:20260320T074927Z
URL:https://bv-trauerbegleitung.de/veranstaltungen/trauer-als-lebenskunst-
 grosse-basisqualifikation-trauerbegleitung-teil-1-grundstufe/
SUMMARY:\\"Trauer als Lebenskunst\\" Große Basisqualifikation Trauerbeglei
 tung Teil 1: Grundstufe
DESCRIPTION:Leitung: Peggy Steinhauser\n\nSchwerpunkt: systemische Trauer
 begleitung\, Erwachsene\n\nKosten: 1800\,-Euro\, inklusive aller Seminaru
 nterlagen\n\nKontakt:\n\nwww.peggy-steinhauser.de\n\nlebenskunst@peggy-ste
 inhauser.de\n\nInformationen/Anmeldung\n\nGroße Basisqualifikation Trauer
 begleitung\, Grundstufe\, Hamburg\n\n&nbsp\;
CATEGORIES:Große Basisqualifikation Trauerbegleitung
LOCATION:Hamburg\, Buddhistisches Stadtzentrum\, Bahrenfelder Straße 201\,
  Hamburg-Altona\, 22765\, Deutschland
X-APPLE-STRUCTURED-LOCATION;VALUE=URI;X-ADDRESS=Buddhistisches Stadtzentrum
 \, Bahrenfelder Straße 201\, Hamburg-Altona\, 22765\, Deutschland;X-APPLE
 -RADIUS=100;X-TITLE=Hamburg:geo:0,0
END:VEVENT
BEGIN:VTIMEZONE
TZID:Europe/Berlin
X-LIC-LOCATION:Europe/Berlin
BEGIN:DAYLIGHT
DTSTART:20260329T030000
TZOFFSETFROM:+0100
TZOFFSETTO:+0200
TZNAME:CEST
END:DAYLIGHT
BEGIN:STANDARD
DTSTART:20261025T020000
TZOFFSETFROM:+0200
TZOFFSETTO:+0100
TZNAME:CET
END:STANDARD
END:VTIMEZONE
END:VCALENDAR