BEGIN:VCALENDAR
VERSION:2.0
PRODID:-//wp-events-plugin.com//7.2.3.1//EN
TZID:Europe/Berlin
X-WR-TIMEZONE:Europe/Berlin
BEGIN:VEVENT
UID:275@bv-trauerbegleitung.de
DTSTART;TZID=Europe/Berlin:20260423T190000
DTEND;TZID=Europe/Berlin:20260423T210000
DTSTAMP:20260326T115224Z
URL:https://bv-trauerbegleitung.de/veranstaltungen/supervision-mit-eva-chi
 waeze-nur-fuer-bvt-mitglieder/
SUMMARY:Supervision mit Eva Chiwaeze – nur für BVT-Mitglieder!
DESCRIPTION:Der BVT bietet über das Jahr verteilt für seine Mitglieder re
 gelmäßige Termine für  Supervisionen für Begleitende und Qualifiziere
 nde gemäß der Standards des BVTs an. Bringe Deine Fragen und Themen mit 
 ein. Die Teilnahmezahl ist auf 10 Personen begrenzt.\n\nDie Anmeldung erfo
 lgt hier:https://widgets.yolawo.de/w/691c81f341250c85bac400f7 \n\nDie Sup
 ervision ist nur für BVT-Mitglieder.\n\nDer Zoom-Link wird etwa 2 Tage vo
 r der Veranstaltung versendet.\n\nDie Rechnung über die Teilnahmegebühr 
 von 30\,00 Euro erfolgt danach.\n\nGesuch: Wer von Euch auch als Superviso
 r*in arbeitet und sich vorstellen kann\, Termine im kommenden Jahr 2027 im
  digitalen Format für unsere Mitglieder anzubieten\, meldet sich gerne in
  der Geschäftsstelle. Schon hier und jetzt: Danke dafür!
CATEGORIES:Supervisionen
LOCATION:http://Online
END:VEVENT
BEGIN:VTIMEZONE
TZID:Europe/Berlin
X-LIC-LOCATION:Europe/Berlin
BEGIN:DAYLIGHT
DTSTART:20260329T030000
TZOFFSETFROM:+0100
TZOFFSETTO:+0200
TZNAME:CEST
END:DAYLIGHT
END:VTIMEZONE
END:VCALENDAR