BEGIN:VCALENDAR
VERSION:2.0
PRODID:-//wp-events-plugin.com//7.2.3.1//EN
TZID:Europe/Berlin
X-WR-TIMEZONE:Europe/Berlin
BEGIN:VEVENT
UID:484@bv-trauerbegleitung.de
DTSTART;TZID=Europe/Berlin:20271020T100000
DTEND;TZID=Europe/Berlin:20271125T173000
DTSTAMP:20260324T142149Z
URL:https://bv-trauerbegleitung.de/veranstaltungen/spezialisierungskurs-tr
 auer-bei-verlust-durch-suizid/
SUMMARY:Spezialisierungskurs: Trauer bei Verlust durch Suizid
DESCRIPTION:\n\n\n\n\nSPEZIALISIERUNGSKURS:\nTRAUER NACH SUIZID\nVERSTEHEN\
 , BEGLEITEN\, PROFESSIONELL HANDELN\n\n\n\n\n\n\n\n\n\n\n\n\nUM WAS ES GE
 HT...\n\n\n\n\n\n\n\n\n\n\n\nDer Verlust eines Menschen durch Suizid stell
 t Hinterbliebene oft vor besonders komplexe emotionale\, soziale und exist
 enzielle Herausforderungen. Gefühle wie Schuld\, Scham\, Wut\, Ohnmacht o
 der das ständige Fragen nach dem „Warum“ prägen häufig den Trauerpr
 ozess. Dieser Spezialisierungskurs bietet einen geschützten Raum\, um die
  besondere Dynamik dieser Form von Trauer zu verstehen\, persönliche Erfa
 hrungen zu vertiefen und neue Perspektiven zu entwickeln.\n\n\n\n\n\n\n\n\
 nIm Mittelpunkt stehen sowohl die eigene innere Auseinandersetzung mit dem
  Thema als auch der professionelle Umgang mit Betroffenen. Durch theoretis
 che Impulse\, Reflexion und praktische Übungen wird ein tieferes Verstän
 dnis für Trauerprozesse nach Suizid vermittelt und Handlungssicherheit in
  der Begleitung von Hinterbliebenen gestärkt.\n\n\n\n\n\n\n\n\n\nINHALTE\
 n\n 	Vertiefung persönlicher Erfahrungen und Reflexion eigener Haltungen 
 zum Thema Suizid und Trauer\n 	Bewusstseinserweiterung für die besonderen
  Dynamiken von Trauer nach Suizid und Trauma\n 	Hintergrundwissen zu psych
 ologischen\, sozialen und existenziellen Aspekten von Suizid und Hinterbli
 ebenentrauer\n 	Entwicklung eines neuen Verständnisses für typische Gef
 ühle und Reaktionen Betroffener\n 	Kennenlernen neuer Sichtweisen auf Sch
 uld\, Verantwortung\, Scham und Stigmatisierung\n 	Praktische Übungen zur
  Selbstreflexion und zur Arbeit mit Trauernden\n 	Methoden und Ansätze zu
 r einfühlsamen und professionellen Begleitung von Hinterbliebenen\n 	Stä
 rkung der eigenen professionellen Haltung und inneren Stabilität in der B
 egleitungsarbeit\n\n\n\n\n\n\n\n\nTERMIN &amp\; ORT\n\n 	Modul 1: MI/DO 20
 ./21.Oktober 2027\n 	Modul 2: MI/DO 24./25.November 2027\n\n\n\n\n\n\n\nKO
 STEN\n\n 	840 EUR Seminargebühren\n 	Kontakt: \n 	https://www.goldenerbi
 ldungsweg.de/spezialisierungskurs-trauer-nach-suizid.html\n 	rmaier@golden
 erbildungsweg.de\n 	Tel.: 08143/999534\n\n\n\n\n\n\n
CATEGORIES:Fortbildungen und Workshops
LOCATION:St. Ottilien\, St. Ottilien\, Deutschland
X-APPLE-STRUCTURED-LOCATION;VALUE=URI;X-ADDRESS=St. Ottilien\, Deutschland;
 X-APPLE-RADIUS=100;X-TITLE=St. Ottilien:geo:0,0
END:VEVENT
BEGIN:VTIMEZONE
TZID:Europe/Berlin
X-LIC-LOCATION:Europe/Berlin
BEGIN:DAYLIGHT
DTSTART:20270328T030000
TZOFFSETFROM:+0100
TZOFFSETTO:+0200
TZNAME:CEST
END:DAYLIGHT
BEGIN:STANDARD
DTSTART:20271031T020000
TZOFFSETFROM:+0200
TZOFFSETTO:+0100
TZNAME:CET
END:STANDARD
END:VTIMEZONE
END:VCALENDAR