BEGIN:VCALENDAR
VERSION:2.0
PRODID:-//wp-events-plugin.com//7.2.3.1//EN
TZID:Europe/Berlin
X-WR-TIMEZONE:Europe/Berlin
BEGIN:VEVENT
UID:510@bv-trauerbegleitung.de
DTSTART;TZID=Europe/Berlin:20270310T100000
DTEND;TZID=Europe/Berlin:20270415T173000
DTSTAMP:20260414T082410Z
URL:https://bv-trauerbegleitung.de/veranstaltungen/spezialisierungskurs-ki
 nder-und-jugendtrauer/
SUMMARY:Spezialisierungskurs Kinder- und Jugendtrauer
DESCRIPTION:\n\n\n\nMUT zur Begleitung von Kinder- und Jugendtrauer\n\n\n\n
 \n\n\n\n\nSpezialisierungskurs im schönen Kloster in St. Ottilien\n\n\n\n
 \nHinführung\n\nOftmals erfordert die Begleitung von trauernden Kindern u
 nd Jugendlichen Mut. Die Erwachsenen sind nicht selten unsicher darin\, wi
 e sie mit den Fragen und dem Verhalten von trauernden Kindern und Jugendli
 chen umgehen sollen. Dies kann im Alltag eine große Anforderung und Herau
 sforderung für sie darstellen. Der altersbezogene Umgang mit der Trauer v
 on Kindern und Jugendlichen sollte eine Orientierung geben.\n\nVorraussetz
 ungen\n\n 	Erfahrung in der Begleitung trauernder Menschen ODER\n 	Erfahru
 ng in der Begleitung von trauernden Jugendlichen und Kindern ODER\n 	Basis
 qualifikation oder Zusatzqualifikation in Trauerbegleitung ODER\n 	Persone
 n aus den Berufen der Pädagogik ODER\n 	andere Interessierte nach persön
 licher Rücksprache\, bitte Kontakt aufnehmen.\n\nInhalte:\n\n 	Trauersymp
 tome bei Kindern &amp\; Jugendlichen\n 	Altersgerechter Umgang und kindlic
 he Vorstellungen von Tod\n 	Systemische Wirkung von Trauer\n 	Gesprächsf
 ührung mit trauernden Kindern &amp\; Jugendlichen\n 	Erinnerungsarbeit mi
 t Kindern &amp\; Jugendlichen\n 	Rituale kindgerecht gestalten und umsetz
 en\n\n\n\n\n\nIDEAL FÜR\nTrauerbegleitende in der Praxis\n\n\n\n\n\n\n\n\
 n\n\n\n\n\n\nTERMIN &amp\; ORT\n&nbsp\;\n\n 	Modul 1 von Mittwoch bis Frei
 tag 10.-12. März 2027\n 	Modul 2 von Mittwoch und Donnerstag 14. &amp\; 1
 5. April 2027&nbsp\;\n\nMehr…\n\n\n\n\n\n\n\nKOSTEN &amp\; BUCHUNG\n\n 	
 940 EUR Seminargebühren inkl. Tagungspauschale\n 	zzgl. Übernachtung auf
  Wunsch im EZ/DU/WC\n\n\n\n\n\n
CATEGORIES:Fortbildungen und Workshops
LOCATION:Exerzitienhaus Kloster St.Ottilien\, Erzabtei 1\, Eresing/Bayern\,
  86922\, Deutschland
X-APPLE-STRUCTURED-LOCATION;VALUE=URI;X-ADDRESS=Erzabtei 1\, Eresing/Bayern
 \, 86922\, Deutschland;X-APPLE-RADIUS=100;X-TITLE=Exerzitienhaus Kloster S
 t.Ottilien:geo:0,0
END:VEVENT
BEGIN:VTIMEZONE
TZID:Europe/Berlin
X-LIC-LOCATION:Europe/Berlin
BEGIN:STANDARD
DTSTART:20261025T020000
TZOFFSETFROM:+0200
TZOFFSETTO:+0100
TZNAME:CET
END:STANDARD
BEGIN:DAYLIGHT
DTSTART:20270328T030000
TZOFFSETFROM:+0100
TZOFFSETTO:+0200
TZNAME:CEST
END:DAYLIGHT
END:VTIMEZONE
END:VCALENDAR