BEGIN:VCALENDAR
VERSION:2.0
PRODID:-//wp-events-plugin.com//7.2.3.1//EN
TZID:Europe/Berlin
X-WR-TIMEZONE:Europe/Berlin
BEGIN:VEVENT
UID:516@bv-trauerbegleitung.de
DTSTART;TZID=Europe/Berlin:20260509T100000
DTEND;TZID=Europe/Berlin:20260509T120000
DTSTAMP:20260420T090939Z
URL:https://bv-trauerbegleitung.de/veranstaltungen/seelensport-schnupperku
 rs-in-hagen/
SUMMARY:SeelenSport®-Schnupperkurs in Hagen
DESCRIPTION:Leitung: Christine Tinnefeld\, SeelenSport®-Trainerin und Trau
 erbegleiterin\n\nSeelenSport® verbindet körperliches Training gezielt mi
 t Gefühlen\, um Körper und Seele gleichermaßen zu stärken. Die speziel
 len Übungen vereinen Elemente aus Yoga\, Pilates\, Calisthenics und Kickb
 oxen und werden kombiniert mit Hintergrundgeschichten und Affirmationen. S
 o lernst du Gefühle durch Bewegung auszudrücken\, stärkende Gefühle zu
  erzeugen und dich selbstwirksam durch Gefühlswellen zu begleiten. Da die
  Übungen individuell anpassbar sind\, ist SeelenSport® für alle Fitness
 level geeignet.\n\nDer Schnuppperkurs richtet sich an alle Interessierten.
 \n\nTeilnahmebeitrag: 25 Euro\n\nAnmeldung per Mail an kontakt@christinet
 innefeld.de\n\nWeitere Informationen unter http://www.christinetinnefeld.
 de/termine
CATEGORIES:Angebot für Trauernde
LOCATION:Wandelbar Hagen\, Zietenstr. 10\, Hagen\, 58097\, Deutschland
X-APPLE-STRUCTURED-LOCATION;VALUE=URI;X-ADDRESS=Zietenstr. 10\, Hagen\, 580
 97\, Deutschland;X-APPLE-RADIUS=100;X-TITLE=Wandelbar Hagen:geo:0,0
END:VEVENT
BEGIN:VTIMEZONE
TZID:Europe/Berlin
X-LIC-LOCATION:Europe/Berlin
BEGIN:DAYLIGHT
DTSTART:20260329T030000
TZOFFSETFROM:+0100
TZOFFSETTO:+0200
TZNAME:CEST
END:DAYLIGHT
END:VTIMEZONE
END:VCALENDAR