BEGIN:VCALENDAR
VERSION:2.0
PRODID:-//wp-events-plugin.com//7.2.3.1//EN
TZID:Europe/Berlin
X-WR-TIMEZONE:Europe/Berlin
BEGIN:VEVENT
UID:515@bv-trauerbegleitung.de
DTSTART;TZID=Europe/Berlin:20260422T193000
DTEND;TZID=Europe/Berlin:20260422T210000
DTSTAMP:20260420T090847Z
URL:https://bv-trauerbegleitung.de/veranstaltungen/seelensport-infozoom-fu
 er-begleitende/
SUMMARY:SeelenSport®-Infozoom für Begleitende
DESCRIPTION:Referentin: Christine Tinnefeld\n\nTrauer ist mit einem ganzen 
 Bündel intensiver Gefühle verbunden\, die sich immer auch körperlich be
 merkbar machen. Dennoch wird der Körper in der Begleitung Trauernder oft 
 nicht einbezogen. SeelenSport® verbindet körperliches Training gezielt m
 it Gefühlen\, um Körper und Seele gleichermaßen zu stärken\, und stell
 t dadurch eine sehr ganzheitliche\, ressourcenorientierte Methode in der B
 egleitung dar. An diesem Abend wird das Konzept vorgestellt und praktisch 
 erfahrbar\; auch für Fragen und Austausch wird Raum sein.\n\nTeilnahmegeb
 ühr: kostenfrei\n\nAnmeldung per Mail an kontakt@christinetinnefeld.de\n
 \nWeitere Informationen unter http://www.christinetinnefeld.de/termine
CATEGORIES:Fortbildungen und Workshops
LOCATION:http://Online
END:VEVENT
BEGIN:VTIMEZONE
TZID:Europe/Berlin
X-LIC-LOCATION:Europe/Berlin
BEGIN:DAYLIGHT
DTSTART:20260329T030000
TZOFFSETFROM:+0100
TZOFFSETTO:+0200
TZNAME:CEST
END:DAYLIGHT
END:VTIMEZONE
END:VCALENDAR