BEGIN:VCALENDAR
VERSION:2.0
PRODID:-//wp-events-plugin.com//7.2.3.1//EN
TZID:Europe/Berlin
X-WR-TIMEZONE:Europe/Berlin
BEGIN:VEVENT
UID:253@bv-trauerbegleitung.de
DTSTART;TZID=Europe/Berlin:20260519T093000
DTEND;TZID=Europe/Berlin:20260519T170000
DTSTAMP:20260309T075006Z
URL:https://bv-trauerbegleitung.de/veranstaltungen/political-grief/
SUMMARY:Political Grief 
DESCRIPTION:In diesem Seminar sehen wir mit der Brille der Trauertheorie au
 f Verlusterleben und Trauerreaktionen die sich auf gesellschaftliche und i
 deologische Veränderungen beziehen.\nDenn wir trauern nicht nur um Mensch
 en und individuelle Schicksalsschläge. Trauerprozesse können auch durch 
 ideologische und politische Verlusterlebnisse auf gesellschaftlicher Ebene
  ausgelöst werden. Wenn ein Krieg ausbricht\, wenn eine Demokratie bedroh
 t wird\, können tiefe Verluste entstehen. Die Betroffenen erleben eine ex
 istentielle Irritation\, zu den sichtbaren Reaktionen gehören Rückzug od
 er Protestaktionen. Gemeinsam untersuchen wir\, ob es einen Übertrag von 
 unterstützenden Interventionen aus der individuellen Trauerbegleitung auf
  kollektive Trauerprozesse geben kann.\n\nTeilnahmegebühr: 180\,00 EURO\n
 \nReferentin: Chris Paul\n\nKontakt: TrauerInstitut Deutschland Chris Paul
 \n\nE-Mail: info@trauerinstitut.de\n\nWebsite: htps://www.trauerstitut.de\
 n\nWeitere Informationen: https://www.trauerinstitut.de/product-page/polit
 ical-grief-19-05-2026\n\nDas Seminar richtet sich an Interessierte und Tei
 lnehmende mit Beratungserfahrung!
CATEGORIES:Fortbildungen und Workshops
LOCATION:http://Online
END:VEVENT
BEGIN:VTIMEZONE
TZID:Europe/Berlin
X-LIC-LOCATION:Europe/Berlin
BEGIN:DAYLIGHT
DTSTART:20260329T030000
TZOFFSETFROM:+0100
TZOFFSETTO:+0200
TZNAME:CEST
END:DAYLIGHT
END:VTIMEZONE
END:VCALENDAR