BEGIN:VCALENDAR
VERSION:2.0
PRODID:-//wp-events-plugin.com//7.2.3.1//EN
TZID:Europe/Berlin
X-WR-TIMEZONE:Europe/Berlin
BEGIN:VEVENT
UID:242@bv-trauerbegleitung.de
DTSTART;TZID=Europe/Berlin;VALUE=DATE:20260410
DTEND;TZID=Europe/Berlin;VALUE=DATE:20260413
DTSTAMP:20260320T073744Z
URL:https://bv-trauerbegleitung.de/veranstaltungen/messe-leben-und-tod-in-
 bremen/
SUMMARY:Messe „LEBEN UND TOD“ in Bremen
DESCRIPTION:Die LEBEN UND TOD ist die einzigartige Mischung aus einer Fortb
 ildungsveranstaltung für haupt- und ehrenamtlich Begleitende\, einer viel
 fältigen und lebhaften Messe sowie Kunst\, Lesungen und Live-Musik.\n\nZw
 ei vollgepackte Tage mit über 60 Vorträgen\, Workshops und anderen Forma
 ten stehen diesmal unter der Überschrift „Grenzgänge“ und widmen sic
 h dem Spannungsfeld von Traditionen &amp\; Ritualen hin zu Digitalisierung
  und KI.\n\nWie wir Abschied nehmen\, verändert sich. Zwischen alten Ritu
 alen und neuen digitalen Möglichkeiten suchen wir nach Wegen\, um Verlust
  und Erinnerung in unsere Zeit zu übersetzen. Wo früher Kerzen\, Worte u
 nd Gesten Trost spendeten\, kommen heute virtuelle Räume\, digitale Geden
 kseiten oder KI-basierte Begleitangebote dazu. Roboter übernehmen die Pfl
 ege\, den menschlichen Austausch und Zuwendung ersetzen Software und Masch
 inen. Aber ist das immer gut\, ist das für jeden Menschen das Richtige?\n
 \nDarüber diskutieren die Teilnehmenden aus ganz Deutschland auf Augenhö
 he.\n\nAnmeldung und Infos hier: www.leben-und-tod.de/fortbilden-bremen\n
 \nVeranstalterin: Ahorn Kultur GmbH\n\n
CATEGORIES:Fachtagungen und Messen
LOCATION:LEBEN UND TOD Bremen\, Findorffstraße 101\, Bremen\, 28215\, Deut
 schland
X-APPLE-STRUCTURED-LOCATION;VALUE=URI;X-ADDRESS=Findorffstraße 101\, Breme
 n\, 28215\, Deutschland;X-APPLE-RADIUS=100;X-TITLE=LEBEN UND TOD Bremen:ge
 o:0,0
END:VEVENT
BEGIN:VTIMEZONE
TZID:Europe/Berlin
X-LIC-LOCATION:Europe/Berlin
BEGIN:DAYLIGHT
DTSTART:20260329T030000
TZOFFSETFROM:+0100
TZOFFSETTO:+0200
TZNAME:CEST
END:DAYLIGHT
END:VTIMEZONE
END:VCALENDAR