BEGIN:VCALENDAR
VERSION:2.0
PRODID:-//wp-events-plugin.com//7.2.3.1//EN
TZID:Europe/Berlin
X-WR-TIMEZONE:Europe/Berlin
BEGIN:VEVENT
UID:254@bv-trauerbegleitung.de
DTSTART;TZID=Europe/Berlin;VALUE=DATE:20260529
DTEND;TZID=Europe/Berlin;VALUE=DATE:20260531
DTSTAMP:20260309T094319Z
URL:https://bv-trauerbegleitung.de/veranstaltungen/konstruktive-schuldbear
 beitung-vertiefung-methodencheck-fuer-einzel-und-gruppensettings/
SUMMARY:Konstruktive Schuldbearbeitung\, Vertiefung: Methodencheck für Ein
 zel- und Gruppensettings
DESCRIPTION:In diesem Vertiefungsseminar werden die Grundlagen der Konstruk
 tiven Schuldbearbeitung vertieft. Die praktische Anwendung in Einzel-und G
 ruppensettings wird mit konkreten Beispielen und Methoden eingeübt.\n\n·
  Psychoinformative Impulse erarbeiten für verschiedene Settings\n· Karte
 narbeit und Impulse für geschlossene Gruppenarbeit\n· Klare Regeln und R
 ollen für offene und geschlossene Gruppen\n· Kartenarbeit für Einzelset
 tings (Gesprächsübung)\n· Fallbesprechungen anhand der spezialisierten 
 Matrix\n\n&nbsp\;\n\nTeilnahmegebühr: 320\,00 Euro\n\nReferentin: Chris P
 aul\n\nKontakt: TrauerInstitut Deutschland Chris Paul\n\nE-Mail: info@chri
 spaul.de\n\nWebsite: htps://www.trauerstitut.de\n\nWeitere Informationen:
  https://www.trauerinstitut.de/product-page/vertiefungsseminar-methodenei
 nsatz-und-gespr%C3%A4chs%C3%BCbung-28-29-05-2026\n\nWeitere Angaben: Dies 
 ist ein Vertiefungsseminar!\n\nFür die Teilnahme an diesem Seminar wird v
 orausgesetzt: Teilnahme an einem Grundlagenseminar bei Chris Paul\, Jan M
 öllers oder Tanja Brinkmann. Oder die Teilnahme an einer Großen Basisqua
 lifizierung bei Chris Paul oder der Weiterbildung „Suizidtrauernde begle
 iten“ bei Chris Paul\n\nDas Seminar richtet sich an Teilnehmende mit Ber
 atungserfahrung!
CATEGORIES:Fortbildungen und Workshops
LOCATION:http://Online
END:VEVENT
BEGIN:VTIMEZONE
TZID:Europe/Berlin
X-LIC-LOCATION:Europe/Berlin
BEGIN:DAYLIGHT
DTSTART:20260329T030000
TZOFFSETFROM:+0100
TZOFFSETTO:+0200
TZNAME:CEST
END:DAYLIGHT
END:VTIMEZONE
END:VCALENDAR