BEGIN:VCALENDAR
VERSION:2.0
PRODID:-//wp-events-plugin.com//7.2.3.1//EN
TZID:Europe/Berlin
X-WR-TIMEZONE:Europe/Berlin
BEGIN:VEVENT
UID:298@bv-trauerbegleitung.de
DTSTART;TZID=Europe/Berlin;VALUE=DATE:20260814
DTEND;TZID=Europe/Berlin;VALUE=DATE:20261110
DTSTAMP:20260309T095951Z
URL:https://bv-trauerbegleitung.de/veranstaltungen/grundlagenkurs-zur-inte
 grativen-trauerbegleitung/
SUMMARY:Grundlagenkurs zur integrativen Trauerbegleitung
DESCRIPTION:Im Rahmen dieses Befähigungskurses erlangen die Teilnehmenden 
 die Qualifikation zur selbstständigen Planung\, Durchführung und Evaluat
 ion der ehrenamtlichen Begleitung von Trauernden in unterschiedlichen Sett
 ings\, z.B. Einzel-\, Familien- oder Gruppensettings. Sie eignen sich die 
 Fähigkeiten zur Begleitung bei gesunder Trauer an. Es ist das 1 Mal 1 der
  Trauerbegleitung\, zur Ausübung innerhalb eines Ehrenamtskontextes.\n\nK
 ursleitung: Kathrin Schreier und Maria Förster\n\nTermine und Umfang:\n4 
 Block-Wochenenden\, 80 UE á 45 Minuten\,\nzzgl. 10 UE Intervision/ Peergr
 uppenarbeit\nFreitag 13:00 – 20:00 Uhr\nSamstag 9:00 – 18:00 Uhr\nSonn
 tag 9:00 – 16:00 Uhr\nBlock 1: 14.08.26 – 16.08.26\nBlock 2: 11.09.26 
 – 13.09.26\nBlock 3: 02.10.26 – 04.10.26\nBlock 4: 06.11.26 – 08.11.
 26\n\nInhalt:\n– Trauer in Wahrnehmung und Selbsterfahrung\n– Bestattu
 ngs- und Endlichkeitskultur\n– Trauerpsychologische Ansätze und Trauerm
 odelle\n– Trauersymptome und Blockaden\, Emotionsarbeit\n– Systemische
  Wirkung von Trauer\, Kommunikation\n– kreativmethodische Impulse\n– A
 bgrenzung und Selbstfürsorge\n– Ritualarbeit\n– Intervention in der B
 egleitung\n– Trauerbegleitung mit spezifischen Klient*innen\n– Prozess
 gestaltung\, Einzel-\, Familien-\, Gruppenbegleitung\n\nInvestition:\n1.40
 0\,00 € Standardtarif\n1.200\,00 € Early Bird Tarif (bei Buchung bis 2
 8.02.26)\nKursgebühr inkl. Skript\, allen Materialien sowie Prüfungsgeb
 ühren.\n\nVeranstaltungsort:\nInstitut Perimortal\, Dittrichring 6\, 0410
 9 Leipzig\nIm wunderschönen und historischen Stadtkern von Leipzig befind
 en sich unsere Räume als Teil einer Gemeinschaft. Nur einen Steinwurf von
  der Thomaskirche entfernt findest du unsere Räume in der 4. Etage mit ei
 genem Aufzug. Mitten im Leben Leipzigs und doch in ruhiger und störungsfr
 eier Atmosphäre mit wunderschönem Altbau Charme.\n\nKontakt:\nkontakt@in
 stitut-perimortal.de\n\nMehr Informationen:\nhttps://www.institut-perimort
 al.de/kurse/grundlagenkurs-trauerbegleitung-ehrenamt/
CATEGORIES:Grundlagenkurs Trauerbegleitung
LOCATION:Institut Perimortal\, Dittrichring 6\, Leipzig\, 04109\, Deutschla
 nd
X-APPLE-STRUCTURED-LOCATION;VALUE=URI;X-ADDRESS=Dittrichring 6\, Leipzig\, 
 04109\, Deutschland;X-APPLE-RADIUS=100;X-TITLE=Institut Perimortal:geo:0,0
END:VEVENT
BEGIN:VTIMEZONE
TZID:Europe/Berlin
X-LIC-LOCATION:Europe/Berlin
BEGIN:DAYLIGHT
DTSTART:20260329T030000
TZOFFSETFROM:+0100
TZOFFSETTO:+0200
TZNAME:CEST
END:DAYLIGHT
BEGIN:STANDARD
DTSTART:20261025T020000
TZOFFSETFROM:+0200
TZOFFSETTO:+0100
TZNAME:CET
END:STANDARD
END:VTIMEZONE
END:VCALENDAR