BEGIN:VCALENDAR
VERSION:2.0
PRODID:-//wp-events-plugin.com//7.2.3.1//EN
TZID:Europe/Berlin
X-WR-TIMEZONE:Europe/Berlin
BEGIN:VEVENT
UID:309@bv-trauerbegleitung.de
DTSTART;TZID=Europe/Berlin;VALUE=DATE:20260520
DTEND;TZID=Europe/Berlin;VALUE=DATE:20260922
DTSTAMP:20260309T075445Z
URL:https://bv-trauerbegleitung.de/veranstaltungen/grundlagenkurs-trauerbe
 gleitung-schwerpunkt-kinder-und-familientrauerbegleitung/
SUMMARY:Grundlagenkurs Trauerbegleitung: Schwerpunkt Kinder- und Familientr
 auerbegleitung
DESCRIPTION:Inhalte des Basiskurs (80 UE)\n\nSicherheit in der Begleitung v
 on trauernden Kindern\, Jugendlichen und deren Familien erlangen\nGrundlag
 en der Familientrauerbegleitung\nSelbstreflexion / Weltanschauung\nTrauerm
 odelle und Trauertheorien\nGesprächsführung in der Trauerbegleitung\nPro
 zessgestaltung\, Rahmenbedingungen\, beispielhafte Settings von Trauerbegl
 eitungsangeboten\nKreative und ressourcenorientierte Methoden in der Begle
 itung\nFähigkeit zur Krisenintervention\nBegleitung nach Suizid und Unfal
 l\nKennenlernen praxisnaher Methoden und Rituale in menschlichen Grenzsitu
 ationen\nGestalten von Kindertrauergruppen\nUmgang mit Trauer an Schulen u
 nd in Kindergärten\n\n&nbsp\;\n\nTermine:\nModul 1: Mittwoch 20.05.26 bi
 s Sonntag 24.05.26\nModul 2:Mittwoch 16.09.26 bis Sonntag 20.09.26\n\n&n
 bsp\;\n\nKosten: insgesamt 2.450\,00 Euro\, im Preis enthalten sind:\n10 
 Tage Kursgebühr\n10 Tage (zwei Module á 5 Tage) Mai / Oktober\, Einzelzi
 mmer mit Dusche und WG\nVollpension\, täglich frisch im ehemaligen Kloste
 r zubereitetes Essen\nVormittagskaffee\, Nachmittagskaffee mit Kuchen\nAll
 e Getränke tagsüber\n\n&nbsp\;\n\nDieses Seminar wurde in den letzten Ja
 hren vom Kultusministerium in BW mit einem Zuschuss von 250 € pro Teilne
 hmer* in gefördert.\nIm Falle einer Förderung reduziert sich die Kursgeb
 ühr in BW auf 2200 €.\nDen Antrag auf Förderung übernehme ich selbstv
 erständlich für Sie.\nDie Genehmigung des Zuschusses des Landes Baden-W
 ürttemberg wird jährlich neu entschieden und ist daher ohne Gewähr.\n
 \n&nbsp\;\n\nOrt: Ehemaliges Kloster St. Peter\, Seminarhaus\, Klosterho
 f 2\, 79271 St. Peter\, Hochschwarzwald\n\n&nbsp\;\n\nKursleitung: Helen
 a Gareis\nZertifizierte Kinder- und Familientrauerbegleiterin nach den Ric
 htlinien des BVT\, Systemische Familienberaterin\, Logotherapeutin nach 
 Viktor Frankl/ Sinnzentrierte Psychologie\, Bildungsreferentin an der Lan
 desakademie BW\n\nWeitere Informationen und Anmeldung bei Helena Gareis un
 ter www.kindertrauerbegleitung.com\n\nAnmeldeformular ( https://www.kinder
 trauerbegleitung.com/anfrageformular )
CATEGORIES:Grundlagenkurs Trauerbegleitung
LOCATION:Ehemaliges Kloster St. Peter\, Klosterhof 2\, St. Peter\, 79271\, 
 Deutschland
X-APPLE-STRUCTURED-LOCATION;VALUE=URI;X-ADDRESS=Klosterhof 2\, St. Peter\, 
 79271\, Deutschland;X-APPLE-RADIUS=100;X-TITLE=Ehemaliges Kloster St. Pete
 r:geo:0,0
END:VEVENT
BEGIN:VTIMEZONE
TZID:Europe/Berlin
X-LIC-LOCATION:Europe/Berlin
BEGIN:DAYLIGHT
DTSTART:20260329T030000
TZOFFSETFROM:+0100
TZOFFSETTO:+0200
TZNAME:CEST
END:DAYLIGHT
END:VTIMEZONE
END:VCALENDAR