BEGIN:VCALENDAR
VERSION:2.0
PRODID:-//wp-events-plugin.com//7.2.3.1//EN
TZID:Europe/Berlin
X-WR-TIMEZONE:Europe/Berlin
BEGIN:VEVENT
UID:244@bv-trauerbegleitung.de
DTSTART;TZID=Europe/Berlin;VALUE=DATE:20260703
DTEND;TZID=Europe/Berlin;VALUE=DATE:20270126
DTSTAMP:20260309T095521Z
URL:https://bv-trauerbegleitung.de/veranstaltungen/grundlagenkurs-trauerbe
 gleitung-im-pfaelzerwald/
SUMMARY:Grundlagenkurs Trauerbegleitung im Pfälzerwald
DESCRIPTION:Die Fortbildung befähigt Sie in fünf Modulen zur Begleitung E
 rwachsener mit nicht-erschwerten Trauerprozessen und zur Co-Leitung von Gr
 uppenangeboten.\n\nDas Angebot richtet sich an psychosoziale Berufsgruppen
 \, an ehrenamtlich Begleitende und Beratende und an alle\, die in einem Be
 rufsfeld arbeiten\, in dem Trauerbegleitung sinnvoll eingebunden ist.\n\nV
 ermittelt werden Ihnen aktuelles Fachwissen und Methoden zur Begleitung in
  Einzel- und Gruppensettings und Systemen. Sie lernen auch die eigene Halt
 ung als Begleitende/r zu reflektieren und Methoden der Selbstfürsorge und
  Stabilisierung für sich und andere.\nEs erwartet Sie eine intensive Lern
 gruppe mit max. 12 Teilnehmenden\, die von zwei qualifizierten Fachreferen
 tinnen im Tandem angeleitet werden – systemisch\, naturverbunden\, kreat
 iv.\n\nUmfang: 80 Unterrichtseinheiten (UE) und circa 30 UE selbstorganisi
 ertes Lernen.\nDer Abschluss ist eine Teilnahmebescheinigung mit dem Logo 
 des BVT.\n\nFortbildungstermine:\nBlock 1: Fr 3. – So 5. Juli 26\nBlock 
 2: Fr 7. – So 9. August 26\nBlock 3: Fr 25. – So 27. September 26\nBlo
 ck 4: Fr 6. – So 8. November 26\nBlock 5: Fr 22. – So 24. Januar 27\n\
 nSeminarzeiten: Fr 16-20 Uhr / Sa 10-18 Uhr / So 10-14 Uhr\n\nKosten der F
 ortbildung: 1.960 € (20 € Organisationsgebühr + 388 € Seminarkoste
 n pro Wochenende). In den Seminarkosten sind auch enthalten: Arbeitsmateri
 al\, Verpflegung und Getränke.\n\nLeitung: Stefanie Schnitzler\nCo-Leitun
 g: Ute Ritzhaupt\n\n&nbsp\;\n\nOrt der Ausbildung:\nRAUM ZUM TRAUERN\nÖst
 liche Luhrbachstr. 32\nD-67466 Lambrecht\n\nAnmeldung: schnitzler@raum-zum
 -trauern.de\n\nWeitere Informationen: 1 Grundlagenkurs Trauerbegelitung Fl
 yer
CATEGORIES:Grundlagenkurs Trauerbegleitung
LOCATION:RAUM ZUM TRAUERN\, Östliche Luhrbachstr. 32\, Lambrecht\, 67466\,
  Deutschland
X-APPLE-STRUCTURED-LOCATION;VALUE=URI;X-ADDRESS=Östliche Luhrbachstr. 32\,
  Lambrecht\, 67466\, Deutschland;X-APPLE-RADIUS=100;X-TITLE=RAUM ZUM TRAUE
 RN:geo:0,0
END:VEVENT
BEGIN:VTIMEZONE
TZID:Europe/Berlin
X-LIC-LOCATION:Europe/Berlin
BEGIN:DAYLIGHT
DTSTART:20260329T030000
TZOFFSETFROM:+0100
TZOFFSETTO:+0200
TZNAME:CEST
END:DAYLIGHT
BEGIN:STANDARD
DTSTART:20261025T020000
TZOFFSETFROM:+0200
TZOFFSETTO:+0100
TZNAME:CET
END:STANDARD
END:VTIMEZONE
END:VCALENDAR