BEGIN:VCALENDAR
VERSION:2.0
PRODID:-//wp-events-plugin.com//7.2.3.1//EN
TZID:Europe/Berlin
X-WR-TIMEZONE:Europe/Berlin
BEGIN:VEVENT
UID:250@bv-trauerbegleitung.de
DTSTART;TZID=Europe/Berlin;VALUE=DATE:20260501
DTEND;TZID=Europe/Berlin;VALUE=DATE:20270202
DTSTAMP:20260309T063924Z
URL:https://bv-trauerbegleitung.de/veranstaltungen/grundlagenkurs-trauerbe
 gleitung-2/
SUMMARY:Grundlagenkurs Trauerbegleitung
DESCRIPTION:Zielgruppe\nDiese Weiterbildung richtet sich an Menschen\, die 
 im Ehrenamt oder im privaten Umfeld Trauernde begleiten und an Mitarbeiten
 de:\n– in der ambulanten und stationären Hospizarbeit – in Palliative
 inrichtungen – in geriatrischen Einrichtungen (Seniorenheime\, betreutes
  Wohnen)\n– in Krankenhäusern (onkologische wie Intensivstationen)\,\n
 – in Einrichtungen der Krebshilfe\,\n– im ambulanten Pflegedienst und 
 in Pflegeheimen auf Kurzzeitstationen\,\n– im Bestattungswesen und\n– 
 in Beratungsdiensten.\n\n&nbsp\;\n\nSchwerpunkte/Weiterbildungsplan Basisk
 urs\n1. Selbsterfahrungsübungen im Umgang mit Sterben\, Tod und Trauer: 
 Die Begegnung mit eigener und fremder Trauer\n– Imagination\n– Sterbe-
  und Lebensmeditation\n– Biografie der Freude\n– Krisendiagramm\n– K
 reativ-bildnerische Prozesse\n– Entspannungspraktiken\n– Fallbesprechu
 ngen aus der eigenen Sterbe- und Trauerbegleitung\n– Stammbaum meiner ko
 gnitiven Überzeugungen\n– Stille Zeit im Hochmoor\n2. Kommunikation als
  Interaktionsgeschehen:  die Kunst des Zuhörens\n– Einführung in die 
 patientenorientierte Gesprächsführung nach C. R. Rogers\n– Gefahren un
 d Laster der Gesprächsführung\n– Gesprächsübungen mit einfühlendem 
 Verstehen\, Wertschätzung und Echtheit\n3. Psychologische und spirituelle
  Bausteine im Sterbe- und Trauerprozess: Mein Handwerkskoffer für die Beg
 leitung Trauernder\n– Trauermodelle und die individuelle Prägung der Pe
 rsönlichkeit\n– Die Sprache Sterbender und Trauernder\n– Modell einer
  praktischen Trauerbewältigung\n– Gemeinsamkeiten und Unterschiede zwis
 chen privater und institutioneller Trauerbegleitung\n\n&nbsp\;\n\nTeilnehm
 er: Die Weiterbildung erfolgt in Kleingruppen bis maximal 10 Teilnehmer (
 auch als Inhouse-Schulung vor Ort)\n\n&nbsp\;\n\nAbschluss: Der Basiskurs 
 zur Trauerbegleitung umfasst 80 Unterrichtseinheiten. Die Weiterbildung wi
 rd nach den Qualitätsstandards von BVT\, DHPV und DGP durchgeführt und z
 ertifiziert (Fachkundenachweis)\n\n&nbsp\;\n\nTermine:\n01.05.-03.05.2026 
 1. Wochenendkurs\n03.07.-05.07.2026 2. Wochenendkurs\n25.09.-27.09.2026 3.
  Wochenendkurs\n29.01.-31.01.2027 4. Wochenendkurs\n\n&nbsp\;\n\nZeitstruk
 tur:\nFreitag 16.00-20.30 Uhr (5 Einheiten)\nSonnabend 08.30-20.30 Uhr (10
  Einheiten)\nSonntag 09.00-14.00 Uhr (5 Einheiten)\n\n&nbsp\;\n\nSeminarko
 sten: 1.400\,00 €\n350 € vor Beginn des 1. Wochenendkurses\n350 € v
 or Beginn des 2. Wochenendkurses\n350 € vor Beginn des 3. Wochenendkurse
 s\n350 € vor Beginn des 4. Wochenendkurses\n\n&nbsp\;\n\nLeitung der Sem
 inare:\nDr. Dittmar Rostig\; Integrativer Sozio-\, Trauer-und Traumatherap
 eut\, Mitglied der Fachgruppe Qualifizierende im BVT\, langjährige Dozen
 tentätigkeit am Zentrum für Trauerbegleitung und Lebenshilfe e.V. in Dr
 esden\, einer staatlich anerkannten Weiterbildungseinrichtung für Pallia
 tiv- und Hospizpflege\, eigene Psychotherapeutische Praxis für Trauer- u
 nd Traumatherapie\, Dresden\, zugelassen n. d. Heilpraktikergesetz seit 0
 1.01.1998.\nChristiane Kapelle\, Tätigkeit in der Trauer- und Sterbebegle
 itung\, Hospizhelferin\, Co-Therapeutin und Heilpraktikerin für Psychoth
 erapie in eigener Praxis in Dresden\n\n&nbsp\;\n\nVeranstaltungsort:\nMart
 in-Luther-King-Haus Schmiedeberg\nLutherplatz 24\, 01762 Schmiedeberg\, (2
 5 km von Dresden entfernt)\nÜbernachtung und Verpflegung im EZ incl. 3 Ma
 hlzeiten pro Tag 74\,90 €\nDie Übernachtungskosten werden individuell v
 or Ort beglichen.\n\n&nbsp\;\n\nAnmeldung:\nSchriftliche Anmeldung oder pe
 r Internetanmeldeformular bitte an Zentrum für Trauerbegleitung und Leben
 shilfe e.V.\nStaatlich anerkannte Weiterbildungseinrichtung für Palliativ
 - und Hospizpflege Gitterseestraße 24 01187 Dresden\nTelefon: +49 351 –
  470 80 75 Telefax: +49 351 – 403 54 80\nE-Mail: info@ztl-trauerbegleitu
 ng.de\nAnmeldeschluss: 01.04.2026\n\n&nbsp\;\n\nTeilnahmebedingungen: Nac
 h dem Anmeldeschluss erhalten Sie eine Bestätigung bzw. eine Absage fall
 s das Seminar belegt sein sollte. Die Teilnahme erfolgt in eigener Verant
 wortung. Der Veranstalter übernimmt keinerlei Haftung für Personen und S
 achschäden bei An- und Rückfahrt und am Kursort. Das Zentrum behält sic
 h das Recht vor\, Seminare abzusagen (z. B. bei Erkrankung des Dozenten o
 der Nichterreichen der Teilnehmerzahl).\n\n&nbsp\;\n\nWeitere Informatione
 n:\nErwartungen und Ziele von Kursteilnehmern:\n– Mein Ziel war es\, mit
  trauernden Menschen besser umzugehen und wie kann ich professionell Nähe
  und Distanz leben und herausfinden\, was Trauernde in der aktuellen Situa
 tion benötigen?\n– Kann ich meine Sprachlosigkeit\, die mich bei einzel
 nen Schicksalsschlägen überkommt\, überwinden?\n– Mein Wunsch war\, m
 ir Werkzeuge anzueignen für die Arbeit mit Trauernden. Dieser Wunsch wurd
 e erfüllt. Jedoch\, und damit hatte ich überhaupt nicht gerechnet\, am m
 eisten habe ich über mich selbst erfahren.\n– Ich arbeite seit sechs Ja
 hren im Hospiz\, was mich erfüllt und mir große Freude bereitet. Doch im
  Umgang mit An- und Zugehörigen nach Versterben eines Gastes fühlte ich 
 mich noch immer unsicher. Im Kurs erhielt ich Antworten\, um mich sicherer
  zu fühlen. Aber nicht nur das. So setzt man sich in diesem Kurs auch vie
 l mit sich selbst auseinander und lernt sich besser kennen.\n-Schaffe ich 
 es überhaupt\, dieses Thema in mein Leben einzuschließen und auch für T
 rauernde da zu sein? Woche für Woche wurde mein Wissen erweitert…. Ich 
 konnte malen\, Geschichten schreiben und lernte das Meditieren\, mit Traue
 rphasen umzugehen\, lernte die tiefenpsychologische Persönlichkeitstypolo
 gie und war zufrieden mit mir\, weil ich sie verstanden hatte.\n– Durch 
 meine Arbeit im Bestattungswesen komme ich täglich mit Hinterbliebenen in
  Kontakt. Oft habe ich mir die Frage gestellt\, welche Möglichkeiten es g
 ibt\, Trauernde nach der Beisetzung in ihrer Trauerarbeit zu unterstützen
 ? Meine Erwartungen wurden voll und ganz erfüllt. Der Leitfaden mit unter
 schiedlichen Methoden ermöglicht mir\, ein fundiertes und anwendungsberei
 tes Wissen im Bereich der Trauerbegleitung einzusetzen. Ein Ausgleich zum 
 Lernen war durch Ruhe und Erholungsphasen gegeben. Ich bin dankbar für di
 e wertvolle Erfahrung in diesem Kurs &amp\; und freue mich\, mein Wissen i
 m Arbeitsalltag einzusetzen
CATEGORIES:Grundlagenkurs Trauerbegleitung
LOCATION:Martin-Luther-King-Haus Schmiedeberg\, Lutherplatz 24\, Schmiedebe
 rg\, 01762\, Deutschland
X-APPLE-STRUCTURED-LOCATION;VALUE=URI;X-ADDRESS=Lutherplatz 24\, Schmiedebe
 rg\, 01762\, Deutschland;X-APPLE-RADIUS=100;X-TITLE=Martin-Luther-King-Hau
 s Schmiedeberg:geo:0,0
END:VEVENT
BEGIN:VTIMEZONE
TZID:Europe/Berlin
X-LIC-LOCATION:Europe/Berlin
BEGIN:DAYLIGHT
DTSTART:20260329T030000
TZOFFSETFROM:+0100
TZOFFSETTO:+0200
TZNAME:CEST
END:DAYLIGHT
BEGIN:STANDARD
DTSTART:20261025T020000
TZOFFSETFROM:+0200
TZOFFSETTO:+0100
TZNAME:CET
END:STANDARD
END:VTIMEZONE
END:VCALENDAR