BEGIN:VCALENDAR
VERSION:2.0
PRODID:-//wp-events-plugin.com//7.2.3.1//EN
TZID:Europe/Berlin
X-WR-TIMEZONE:Europe/Berlin
BEGIN:VEVENT
UID:479@bv-trauerbegleitung.de
DTSTART;TZID=Europe/Berlin:20261005T090000
DTEND;TZID=Europe/Berlin:20261010T160000
DTSTAMP:20260323T065815Z
URL:https://bv-trauerbegleitung.de/veranstaltungen/grundlagenkurs-lasst-un
 s-ueber-trauer-sprechen/
SUMMARY:Grundlagenkurs "Lasst uns über Trauer sprechen"
DESCRIPTION:Dieser Grundlagenkurs umfasst 80 UEs und teilt sich auf zwei Wo
 chen auf. Die zweite Woche findet statt vom 01.02. – 05.02.2027 .\n\nEs 
 besteht die Möglichkeit auf eine Förderung (Bildungsfreistellung). Bitte
  wenden Sie sich bei Interesse mind. 12 Wochen vor Beginn beim Veranstalte
 r.\n\nDieser Kurs richtet sich an alle Menschen\, die sich für Trauerproz
 esse interessieren und mehr darüber erfahren möchten. Mit Abschluss dies
 es\nKurses ist es Ihnen möglich\, ehrenamtlich anderen Menschen in ihrer 
 Trauer beizustehen\, entweder im Einzelkontakt\, in der Leitung von Trauer
 cafés oder Trauertreffs oder auch in der Co-Leitung von Trauergruppen. Zu
 dem ist es Ihnen möglich\, innerhalb einer Institution (z. B. in ihrem Ar
 beitsumfeld) Ansprechpartner:in rund um das Thema "Trauer" sein.\n\nIn ein
 er nahen gelegenen Pension (Selbstversorgung) können Einzelzimmer gebucht
  werden: Das Sudhaus\; Tel. 0385/ 39 44 92 00\; www.das-sudhaus.de\nNach A
 bsprache mit den Dozentinnen werden gemeinsame Abendessen organisiert.\n\n
 Die Dozentinnen: Doris Kruck und Stefanie Garbade
ATTACH;FMTTYPE=image/jpeg:https://bv-trauerbegleitung.de/wp/wp-content/upl
 oads/2026/03/SN_2026__FB_Ehrenamtliche-Trauerbegleitung__Oktober-pdf.jpg
CATEGORIES:Grundlagenkurs Trauerbegleitung
LOCATION:Diakonisches  BildungsZentrum Schwerin\,   Apothekerstraße 48  \,
   Schwerin \, 19055\, Deutschland
X-APPLE-STRUCTURED-LOCATION;VALUE=URI;X-ADDRESS=  Apothekerstraße 48  \,  
 Schwerin \, 19055\, Deutschland;X-APPLE-RADIUS=100;X-TITLE=Diakonisches  B
 ildungsZentrum Schwerin:geo:0,0
END:VEVENT
BEGIN:VTIMEZONE
TZID:Europe/Berlin
X-LIC-LOCATION:Europe/Berlin
BEGIN:DAYLIGHT
DTSTART:20260329T030000
TZOFFSETFROM:+0100
TZOFFSETTO:+0200
TZNAME:CEST
END:DAYLIGHT
END:VTIMEZONE
END:VCALENDAR