BEGIN:VCALENDAR
VERSION:2.0
PRODID:-//wp-events-plugin.com//7.2.3.1//EN
TZID:Europe/Berlin
X-WR-TIMEZONE:Europe/Berlin
BEGIN:VEVENT
UID:480@bv-trauerbegleitung.de
DTSTART;TZID=Europe/Berlin;VALUE=DATE:20260615
DTEND;TZID=Europe/Berlin;VALUE=DATE:20271023
DTSTAMP:20260324T141152Z
URL:https://bv-trauerbegleitung.de/veranstaltungen/grosse-basisqualifikati
 on-systemische-integrative-trauerbegleitung/
SUMMARY:Große Basisqualifikation - Systemische integrative Trauerbegleitun
 g
DESCRIPTION:Trauerbegleitung benötigt Einfühlungsvermögen und Kompetenze
 n\, um ganzheitlich\, achtsam\, kreativ und stärkend Menschen nach Verlus
 ten beistehen zu können.\n\nZielgruppe: professionell und ehrenamtlich T
 ätige aus den Bereichen Trauerbegleitung\, Hospizarbeit\, Pädagogik\, Me
 dizin\, Psychologie\, Seelsorge\nund Beratung\n\nMit Demut vor der Individ
 ualität jedes Einzelnen in seiner Trauer-\nund Lebensgeschichte legen wir
  unsere Schwerpunkte trauma und kultursensibel in die\n\nRessourcenorienti
 erte Begleitung: Entdecken und stärken der inneren Kräfte und kreativen 
 Ausdrucksformen trauernder Familienmitglieder und auch der eigenen Ressour
 cen für die Psychohygiene als wichtige Grundlage von stabiler Begleitung\
 nIntegrative Methodenvielfalt: Systemische\, kreativ\, körperorientierte\
 , spielerische\, literatur-\, musik- und ritualgestützte Ansätze –\nf
 ür eine ganzheitliche Trauerbegleitung\n\nTraumasensible Begleitung: Erke
 nnen und Verstehen der Auswirkungen von Verlust und (Entwicklungs-)Trauma 
 –ohne zu pathologisieren\, Wirkweise von Regulation und Co-Regulation\n\
 nTermine:\nModul 1: Mo\, 15.06. - Fr\, 19.06.2026\nModul 2: Mo\, 28.09. - 
 Fr\, 02.10.2026\nModul 3: Mo\, 01.02. - Fr\, 05.02.2027\nModul 4: Mo\, 10.
 05. - Fr\, 14.05.2027\nModul 5: Mo\, 18.10. - Fr\, 22.10.2027\n\nDozentinn
 en: Anna Hupe\, Anita Förster\, Walburga Schnock-Störmer\n\nKosten:\n500
 0\,- € Gesamtkosten\, inclusive Verpflegung und Unterkunft\nDie Kursgeb
 ühren werden anteilig pro Modul abgerechnet.\n\nAnmeldung und Infos:\nwei
 terbildung@leuchtturm-schwerte.de oder Fon: 0151-12716241\nwww.leuchtturm-
 schwerte.de \ninfo@bonifatius-elkeringhausen.de\nwww.bonifatius-elkeringh
 ausen.de
ATTACH;FMTTYPE=image/jpeg:https://bv-trauerbegleitung.de/wp/wp-content/upl
 oads/2026/03/Flyer-GB-systemisch-integrative-Trauerbegleitung-BSB-06.26-10
 .27-klein-pdf.jpg
CATEGORIES:Große Basisqualifikation Trauerbegleitung
LOCATION:Bildungs- und Exerzitienhaus St. Bonifatius Elkeringhausen\, Bonif
 atiusweg 1 - 5\, Winterberg-Elkeringhausen\, 59955\, Deutschland
X-APPLE-STRUCTURED-LOCATION;VALUE=URI;X-ADDRESS=Bonifatiusweg 1 - 5\, Winte
 rberg-Elkeringhausen\, 59955\, Deutschland;X-APPLE-RADIUS=100;X-TITLE=Bild
 ungs- und Exerzitienhaus St. Bonifatius Elkeringhausen:geo:0,0
END:VEVENT
BEGIN:VTIMEZONE
TZID:Europe/Berlin
X-LIC-LOCATION:Europe/Berlin
BEGIN:DAYLIGHT
DTSTART:20260329T030000
TZOFFSETFROM:+0100
TZOFFSETTO:+0200
TZNAME:CEST
END:DAYLIGHT
BEGIN:STANDARD
DTSTART:20261025T020000
TZOFFSETFROM:+0200
TZOFFSETTO:+0100
TZNAME:CET
END:STANDARD
BEGIN:DAYLIGHT
DTSTART:20270328T030000
TZOFFSETFROM:+0100
TZOFFSETTO:+0200
TZNAME:CEST
END:DAYLIGHT
END:VTIMEZONE
END:VCALENDAR