BEGIN:VCALENDAR
VERSION:2.0
PRODID:-//wp-events-plugin.com//7.2.3.1//EN
TZID:Europe/Berlin
X-WR-TIMEZONE:Europe/Berlin
BEGIN:VEVENT
UID:481@bv-trauerbegleitung.de
DTSTART;TZID=Europe/Berlin;VALUE=DATE:20270618
DTEND;TZID=Europe/Berlin;VALUE=DATE:20280925
DTSTAMP:20260324T140114Z
URL:https://bv-trauerbegleitung.de/veranstaltungen/grosse-basisqualifikati
 on-systemische-familientrauerbegleitung/
SUMMARY:Große Basisqualifikation - Systemische Familientrauerbegleitung
DESCRIPTION:Wenn der Regenbogen weint...\nSystemische Familientrauerbegleit
 ung\nressourcenorientiert - traumasensibel - integrativ\n\nEine Qualifizie
 rung für beruflich und / oder persönlich Interessierte\n\nWenn Kinder kl
 ein sind\, gib ihnen Wurzeln\,\nwenn sie groß sind\, gib ihnen Flügel...
 \nKhalil Gibran\n\nKinder\, Jugendliche und Familien im Abschieds- und Tra
 uerprozess zu\nbegleiten\, erfordert eine besondere Sensibilität: Für di
 e Einzigartigkeit eines jeden Menschen\, ob groß\, ob klein... für seine
  Gefühlswelt\, sein inneres Erleben. Durch unsere lebendige Methodenvielf
 alt\nlernen Sie\, sich in die Erlebenswelt von Kindern und Jugendlichen ei
 nzufühlen\, ihnen kreativ und individuell zur Seite zu\nstehen und mit de
 n Bedürfnissen der Erwachsenen in ein gutes Zusammenspiel zu bringen. Dab
 ei berücksichtigen wir insbesondere\nBelastungsfaktoren aus Gesundheit un
 d gesellschaftlichem Wandel im Blick auf die Entwicklungsaufgabe\, Verlust
 e gesund ins Leben zu integrieren.\nTrauerbegleitung in Verlustkrisen brau
 cht Haltung und Kompetenzen\nDie Weiterbildung befähigt dazu\, Kinder\, J
 ugendliche und Familien in ihren Bezugssystemen mit fundiertem Wissen und 
 praktischem Handwerkszeug professionell und mit Herz ein Stück auf dem Tr
 auerweg zu begleiten - und dabei traumasensibel\, integrativ und ressource
 naktivierend zur Seite zu stehen.\n\nZielgruppe: professionell und ehrenam
 tlich Tätige aus den Bereichen Trauerbegleitung\, Hospizarbeit\, Pädagog
 ik\, Jugendhilfe\, Medizin\, Psychologie\, Seelsorge und Beratung\n\nDie W
 eiterbildung findet berufsbegleitend und in Präsenz statt. Sie besteht au
 s neun Wochenendmodulen\, Arbeit in Intervisionsgruppen\, Supervision\, ei
 ner schriftlichen Hausarbeit und einer Symbolpräsentation.\n\nTermine in 
 Eckental Brand\nModul 1: 18. - 20.06.2027\nModul 2: 16. - 18.07.2027\nModu
 l 3: 01. - 03.10.2027\nModul 4: 05. - 07.11.2027\nModul 5: 28. - 30.01.202
 8\nModul 6: 10. - 12.03.2028\nModul 7: 19. - 21.05. 2028\nModul 8: 30.06. 
 - 02.07.2028\nModul 9: 22. - 24.09.2028\n\nKosten:\n3990\,- € Frühbuche
 r bis 15.02.2026 \; danach 4250\,- €\nVorteil: Kleine Lerngruppe von max
  10 Teilnehmenden\n\nVeranstaltungsort:\nPraxis Anna Hupe “verwurzelt in
  dir”\nSchlehenstr. 17\n90542 Eckental Brand\n\nKontakt und nähere Info
 s:\ninfo@annahupe.de\nweiterbildung@leuchtturm-schwerte.de\n\nAnmeldegespr
 äche nach Vereinbarung s. Terminbuchungen auch unter www.annahupe.de\n\nL
 eitung:\nAnna Hupe   www.annahupe.de\nWalburga Schnock-Störmer    www
 .leuchtturm-schwerte.de
ATTACH;FMTTYPE=image/jpeg:https://bv-trauerbegleitung.de/wp/wp-content/upl
 oads/2026/03/Flyer-GB-Systemische-Familientrauerbegleitung-Franken-2027-20
 28-pdf.jpg
CATEGORIES:Große Basisqualifikation Trauerbegleitung
LOCATION:Praxis Anna Hupe “verwurzelt in dir”\, Schlehenstr. 17\, Ecken
 tal Brand\, 90542\, Deutschland
X-APPLE-STRUCTURED-LOCATION;VALUE=URI;X-ADDRESS=Schlehenstr. 17\, Eckental 
 Brand\, 90542\, Deutschland;X-APPLE-RADIUS=100;X-TITLE=Praxis Anna Hupe 
 “verwurzelt in dir”:geo:0,0
END:VEVENT
BEGIN:VTIMEZONE
TZID:Europe/Berlin
X-LIC-LOCATION:Europe/Berlin
BEGIN:DAYLIGHT
DTSTART:20270328T030000
TZOFFSETFROM:+0100
TZOFFSETTO:+0200
TZNAME:CEST
END:DAYLIGHT
BEGIN:STANDARD
DTSTART:20271031T020000
TZOFFSETFROM:+0200
TZOFFSETTO:+0100
TZNAME:CET
END:STANDARD
BEGIN:DAYLIGHT
DTSTART:20280326T030000
TZOFFSETFROM:+0100
TZOFFSETTO:+0200
TZNAME:CEST
END:DAYLIGHT
END:VTIMEZONE
END:VCALENDAR