BEGIN:VCALENDAR
VERSION:2.0
PRODID:-//wp-events-plugin.com//7.2.3.1//EN
TZID:Europe/Berlin
X-WR-TIMEZONE:Europe/Berlin
BEGIN:VEVENT
UID:482@bv-trauerbegleitung.de
DTSTART;TZID=Europe/Berlin;VALUE=DATE:20261123
DTEND;TZID=Europe/Berlin;VALUE=DATE:20271113
DTSTAMP:20260324T141450Z
URL:https://bv-trauerbegleitung.de/veranstaltungen/grosse-basisqualifikati
 on-systemische-familientrauerbegleitung-2/
SUMMARY:Große Basisqualifikation - Systemische Familientrauerbegleitung
DESCRIPTION:Wenn der Regenbogen weint... Systemische  Familientrauerbeglei
 tung - ressourcenorientiert  - traumasensibel - integrativ\n\nWenn Kinder
  klein sind gib ihnen Wurzeln\, \nwenn sie groß sind\,gib ihnen Flügel\n
 Kalil Gibran\n\nUm Wurzeln und Flügel geht es uns auch in unserer Qualifi
 zierung.\nWurzeln\, die uns Kraft geben. Wurzeln\, die unsere Flügel und\
 nKompetenzen wachsen lassen. Flügel\, die sicher und wurzelverbunden\ndur
 ch Stürme tragen. Zeiten von Abschied\, Tod und Trauer brauchen Halt\, Ha
 ltung und Kompetenzen\, die persönliche Ressourcen aktiveren\, traumasens
 ibel stärken und  eine integrative Methodenvielfalt bieten.\n\nKinder\, 
 Jugendliche und Familien im Abschieds- und Trauerprozess zu\nbegleiten\, e
 rfordert eine besondere Sensibilität: Für die Einzigartigkeit eines jede
 n Menschen\, ob groß\, ob klein... für seine Gefühlswelt\, sein inneres
  Erleben und sein Eingebundensein in Bezugssysteme.\nDurch unsere lebendig
 e Methodenvielfalt lernen Sie\, sich in die Erlebenswelt von Kindern und J
 ugendlichen einzufühlen\, ihnen\nkreativ und individuell zur Seite zu ste
 hen und mit den Bedürfnissen der\nErwachsenen in ein gutes Zusammenspiel 
 zu bringen.\nDabei berücksichtigen wir insbesondere Belastungsfaktoren au
 s Gesundheit und gesellschaftlichem Wandel im Blick auf die Entwicklungsau
 fgabe\, Verluste gesund ins  Leben zu integrieren.\n\nDie Weiterbildung b
 efähigt dazu\, Kinder\, Jugendliche und Familien mit fundiertem Wissen un
 d praktischem Handwerkszeug\nprofessionell und mit Herz zu stabilisieren u
 nd sie ein Stück\nauf dem Trauerweg zu begleiten\n\nZielgruppe: professio
 nell und ehrenamtlich Tätige aus den Bereichen Trauerbegleitung\, Hospiza
 rbeit\, Pädagogik\, Jugendhilfe\, Medizin\,\nPsychologie\, Seelsorge und 
 Beratung\n\nDie Weiterbildung findet berufsbegleitend und in Präsenz stat
 t. Hinzu kommen Arbeit in Intervisionsgruppen\, eine schriftliche\nHausarb
 eit und eine Symbolpräsentation (236 UST).\n\nTermine:\nModul 1: 23.11. -
  27.11.2026\nModul 2: 19.02. - 21.02.2027\nModul 3: 16.04. - 18.04.2027\nM
 odul 4: 07.06. - 11.06.2027\nModul 5: 13.08. - 15.08.2027\nModul 6: 08.11.
  - 12.11.2027\n\nAm Ende der Qualifizierung erhalten die Teilnehmenden ein
  Zertifikat des BVT - Bundesverband für Trauerbegleitung e. V.\n\nKosten:
 \n4525\,- € Gesamtkosten incl. Seminargebühr\, Verpflegung und Unterkun
 ft\nDozentinnen:\nIm Anmeldegespräch lernen wir uns persönlich kennen.\n
 \nLeitung:\nAnna Hupe www.annahupe.de\nWalburga Schnock-Störmer www.leuch
 tturm-schwerte.de \n\nAnmeldung und Infos:\nweiterbildung@leuchtturm-schw
 erte.de oder fon 0151-12716241\nwww.leuchtturm-schwerte.de\ninfo@bonifatiu
 s-elkeringhausen.de \nwww.bonifatius-elkeringhausen.de
ATTACH;FMTTYPE=image/jpeg:https://bv-trauerbegleitung.de/wp/wp-content/upl
 oads/2026/03/Flyer_Regenbogen_BSTBonifatius_2026_2027_klein-pdf.jpg
CATEGORIES:Große Basisqualifikation Trauerbegleitung
LOCATION:Bildungs- und Exerzitienhaus St. Bonifatius Elkeringhausen\, Bonif
 atiusweg 1 - 5\, Winterberg-Elkeringhausen\, 59955\, Deutschland
X-APPLE-STRUCTURED-LOCATION;VALUE=URI;X-ADDRESS=Bonifatiusweg 1 - 5\, Winte
 rberg-Elkeringhausen\, 59955\, Deutschland;X-APPLE-RADIUS=100;X-TITLE=Bild
 ungs- und Exerzitienhaus St. Bonifatius Elkeringhausen:geo:0,0
END:VEVENT
BEGIN:VTIMEZONE
TZID:Europe/Berlin
X-LIC-LOCATION:Europe/Berlin
BEGIN:STANDARD
DTSTART:20261025T020000
TZOFFSETFROM:+0200
TZOFFSETTO:+0100
TZNAME:CET
END:STANDARD
BEGIN:DAYLIGHT
DTSTART:20270328T030000
TZOFFSETFROM:+0100
TZOFFSETTO:+0200
TZNAME:CEST
END:DAYLIGHT
BEGIN:STANDARD
DTSTART:20271031T020000
TZOFFSETFROM:+0200
TZOFFSETTO:+0100
TZNAME:CET
END:STANDARD
END:VTIMEZONE
END:VCALENDAR