BEGIN:VCALENDAR
VERSION:2.0
PRODID:-//wp-events-plugin.com//7.2.3.1//EN
TZID:Europe/Berlin
X-WR-TIMEZONE:Europe/Berlin
BEGIN:VEVENT
UID:285@bv-trauerbegleitung.de
DTSTART;TZID=Europe/Berlin;VALUE=DATE:20260415
DTEND;TZID=Europe/Berlin;VALUE=DATE:20260416
DTSTAMP:20260306T110845Z
URL:https://bv-trauerbegleitung.de/veranstaltungen/fachtag-des-ovis-verlag
 s-fuer-lebensliteratur/
SUMMARY:Fachtag des OVIS Verlags für Lebensliteratur
DESCRIPTION:Liebe Interessierte\,\n\nich freue mich Sie ganz herzlich\, zu 
 meinem Fachtag „Tragwerke – Baupläne für Krisenzeiten“ einzuladen.
 \nDer OVIS Verlag steht neben der Veröffentlichung von Lebensliteratur au
 ch für gemeinsame Räume\, in denen Weiterbildung\, Vernetzung und Begegn
 ung zu unseren Lebensthemen stattfinden können.\n\nWarum brauchen wir Bau
 pläne für Krisenzeiten?\nWie schaffen wir es\, privat und beruflich in f
 ragilen und schwierigen Zeiten auf einem guten Fundament zu stehen? Wie fi
 nden wir Stützpfeiler für uns und unsere beruflichen Herausforderungen?\
 n\nMit Musik\, Humor\, theoretischen und praktischen Impulsen\, Diskussion
 en\, Begegnungen und einem thematischen Büchertisch sowie der neuen Wande
 rausstellung „Tragwerke – Baupläne für Krisenzeiten“ wollen wir un
 s in Bergisch Gladbach diesen Fragen nähern.\n\nHerzlich\, Nici Friederi
 chsen\n\nDas Programm:\n08:30 Uhr - Ankommen bei Kaffee und Tee\n09:15 Uhr
  - Begrüßung Nici Friederichsen\nMusik und Moderation Matthias Brodowy\n
 09:30 Uhr - Zusammenhalten\nHaltung\, Aktivität und die Grenzen dabei\, d
 ie wir erweitern könnten.\nVortrag von Chris Paul\n10:20 Uhr - Gemeinscha
 ft und Normalität in unvertrauten Situationen\nImpulsvortrag von David Ro
 th\n10:45 Uhr - Kaffeepause\n11:15 Uhr - Interkulturelle Trauer – Sicher
  durch Krisenzeiten\nVortrag von Golrokh Esmaili\n12:00 Uhr - Mittagspause
  mit Imbiss\, Netzwerken\, Ausstellung „Tragwerke – Baupläne für Kri
 senzeiten“\n13:30 Uhr - Foren (siehe Programm)\n15:00 Uhr - Kaffeepause\
 n15:30 Uhr - Abschluss im Plenum mit Ergebnissen und Erfahrungen des Tages
 \n16:15 Uhr - Abschied und Ende der Veranstaltung\n\nVeranstaltungsort:\n\
 nPütz-Roth Bestattungen und Trauerbegleitung\, Kürtener Straße 10\, 514
 65 Bergisch Gladbach\n\nAnmeldung:\n\nAnmeldeformular_OVIS_Verlag_Fachtag_
 2026-04-15_ \nOder Sie schreiben uns einfach eine Mail an info@ovis-verl
 ag.de\n\nFlyer: Flyer_OVIS_Fachtag_15_04_2026 \n\nMehr Informationen: OV
 IS Verlag
CATEGORIES:Fachtagungen und Messen
LOCATION:Pütz-Roth Bestattungen und Trauerbegleitung\, Kürtener Straße 1
 0\, Bergisch Gladbach\, 51465\, Deutschland
X-APPLE-STRUCTURED-LOCATION;VALUE=URI;X-ADDRESS=Kürtener Straße 10\, Berg
 isch Gladbach\, 51465\, Deutschland;X-APPLE-RADIUS=100;X-TITLE=Pütz-Roth 
 Bestattungen und Trauerbegleitung:geo:0,0
END:VEVENT
BEGIN:VTIMEZONE
TZID:Europe/Berlin
X-LIC-LOCATION:Europe/Berlin
BEGIN:DAYLIGHT
DTSTART:20260329T030000
TZOFFSETFROM:+0100
TZOFFSETTO:+0200
TZNAME:CEST
END:DAYLIGHT
END:VTIMEZONE
END:VCALENDAR