BEGIN:VCALENDAR
VERSION:2.0
PRODID:-//wp-events-plugin.com//7.2.3.1//EN
TZID:Europe/Berlin
X-WR-TIMEZONE:Europe/Berlin
BEGIN:VEVENT
UID:469@bv-trauerbegleitung.de
DTSTART;TZID=Europe/Berlin:20260606T000000
DTEND;TZID=Europe/Berlin:20260607T000000
DTSTAMP:20260320T074831Z
URL:https://bv-trauerbegleitung.de/veranstaltungen/ausbildung-trauerredner
 in-trauerredner/
SUMMARY:Ausbildung Trauerrednerin / Trauerredner
DESCRIPTION:Eine Ausbildung für alle\, die lernen wollen\, professionell T
 rauerreden zu halten. Der Kurs findet statt an vier Wochenenden in der ges
 chmückten Trauerhalle der Friedhofsgärtner Dortmund\, jeweils samstags u
 nd sonntags von 10 bis 17 Uhr.\n\nSie werden drei Trauerreden selbst reche
 rchieren und vor Publikum halten. Es wird kein Standardkonzept vermittelt\
 , sondern Wert gelegt auf positives\, persönliches\, aufbauendes Feedback
 \, das Sie und Ihre persönlichen Stärken sichtbar werden lässt.\n\nKurs
 leitung: Beate Schwedler\n\nKontakt: beate.schwedler@posteo.de\n\nAlles We
 itere: www.forum-dunkelbunt.de/
CATEGORIES:Fortbildungen und Workshops
LOCATION:Haus am Gottesacker\, Am Gottesacker 52\, Dortmund\, 44143\, Deuts
 chland
X-APPLE-STRUCTURED-LOCATION;VALUE=URI;X-ADDRESS=Am Gottesacker 52\, Dortmun
 d\, 44143\, Deutschland;X-APPLE-RADIUS=100;X-TITLE=Haus am Gottesacker:geo
 :0,0
END:VEVENT
BEGIN:VTIMEZONE
TZID:Europe/Berlin
X-LIC-LOCATION:Europe/Berlin
BEGIN:DAYLIGHT
DTSTART:20260329T030000
TZOFFSETFROM:+0100
TZOFFSETTO:+0200
TZNAME:CEST
END:DAYLIGHT
END:VTIMEZONE
END:VCALENDAR