BEGIN:VCALENDAR
VERSION:2.0
PRODID:-//wp-events-plugin.com//7.2.3.1//EN
TZID:Europe/Berlin
X-WR-TIMEZONE:Europe/Berlin
BEGIN:VEVENT
UID:249@bv-trauerbegleitung.de
DTSTART;TZID=Europe/Berlin;VALUE=DATE:20260504
DTEND;TZID=Europe/Berlin;VALUE=DATE:20260608
DTSTAMP:20260309T064228Z
URL:https://bv-trauerbegleitung.de/veranstaltungen/ausbildung-intensivkurs
 -trauerrede-2x-6-tage/
SUMMARY:Ausbildung Intensivkurs Trauerrede (2x 6 Tage)
DESCRIPTION:Das Kursangebot vermittelt die Theorie und Praxis der Trauerred
 e\, übt in ihre kritische Reflexion ein und orientiert über Strategien z
 ur Existenzgründung. Neueinsteiger erhalten im Intensivkurs Rüstzeug\, 
 um die Aufgabe als Trauerredner kompetent und einfühlsam wahrzunehmen. Pr
 aktizierende Trauerredner vervollkommnen ihre Praxis durch Erfahrungsausta
 usch\, vertiefen durch Supervision ihre Selbstwahrnehmung und die Fähigke
 it\, Trauernde bewusster wahrzunehmen und ihnen durch neue kommunikativ-th
 erapeutische Fähigkeiten ein kompetenter Begleiter zu sein.\n\n&nbsp\;\n\
 nZiel des Kurses ist es\, die Trauerrede wie die Trauerfeier als sprachlic
 hes\, individuelles und mitmenschliches Zeugnis bewusst und gegenwartsnah 
 zu gestalten.\n\n&nbsp\;\n\nSchwerpunkte:\n· Theorie der Trauerrede\n· R
 ede und Rhetorik\n· Trauerprozess und Trauerrede\n· Bestattungsgespräch
  als Kommunikationsgeschehen\n· Der einzelne Trauerfall\, Motive und Deut
 ungen\n· Trauerrede und die Beerdigung von Kindern und Jungendlichen\n· 
 Trauerrede bei Suizid\n· Existenzgründung und Marketingkonzept\n· Gesta
 ltung von Visitenkarte und Flyer\n· DVD als Präsentation zum Vorstellung
 sgespräch im Bestattungsinstitut\n· Gebundene Kursmaterialien zu jedem W
 ochenkurs (Themenschwerpunkte\, Literaturhinweise\, Internetadressen\, Mus
 terablauf einer Trauerfeier\, Begrüßung\, Worte am Grab Textbausteine\, 
 Rituale bei Bestattungen\, Bestattungsarten\, Gedichte\, Musikauswahl)\n·
  Praxis der Trauerrede\n· Das Bestattungsgespräch mit Übungen\n· Einf
 ührung in die klientenzentrierte Gesprächstherapie\n· Tiefenpsychologis
 che Persönlichkeitsstruktur\n· Stimm- und Atemtherapie\n· Vortrag einer
  Rede in Kapelle oder Trauerhalle\n· DVD – Aufnahmen zur unterschiedlic
 hen Fallanalysen (Übungen)\n\n&nbsp\;\n\nAbschluss: Fachkundenachweis „
 Intensivkurs Trauerredner“ durch das Zentrum für Trauerbegleitung und L
 ebenshilfe e.V.\, staatlich anerkannte Weiterbildungseinrichtung für Pall
 iativ- und Hospizpflege\n\n&nbsp\;\n\nTeilnehmer: Die Ausbildung erfolgt i
 n Kleingruppen bis max. 8 Teilnehmer.\n\n&nbsp\;\n\nLeitung der Seminare:
 \nDr. Dittmar Rostig\; Integrativer Sozio-\, Trauer- und Traumatherapeut\,
  ordentliches Mitglied im Bundesverband Trauerbegleitung (BVT) e.V.\, eige
 ne psychotherapeutische Praxis für Trauer- und Traumatherapie\, Dresden\,
  zugelassen n.d. HPG seit 01.01.1998\nFrau Kerstin Klesse\, Atem- und Stim
 mtherapeutin in eigener Praxis und Seminartätigkeit\n\n&nbsp\;\n\nTermine
 :\n1. Wochenkurs: 04.05.-09-05.2026\n2. Wochenkurs: 1.06.-06.06.2026\n\n&n
 bsp\;\n\nTagungsort:\nFamilienferienstätte „Martin-Luther-King-Haus“\
 , Lutherplatz 24\, 01744 Schmiedeberg (30 km von Dresden entfernt)\n\n&nb
 sp\;\n\nKosten: 1.730\,00 €\nFälligkeiten: 690\,00 € vor Beginn des 1
 . Wochenkurses 690\,00 € vor Beginn des 2. Wochenkurses zzgl. Anmeldege
 bühr 175\,00 € zzgl. Prüfungs- und Zertifizierungskosten 175\,00 € 
 zzgl. Tagungskosten Vollpension im Einzelzimmer 74\,90 €/pro Tag\n\n&nbs
 p\;\n\nAnmeldung:\nSchriftliche Anmeldung oder per Internetanmeldeformular
  an: Zentrum für Trauerbegleitung und Lebenshilfe e.V. Gitterseestraße 2
 4\, 01187 Dresden\nTelefon: +49 351 -470 80 75\nE-Mail: info@ztl-trauerbeg
 leitung.de\n\nAnmeldeschluss: 07.04.2026\n\n&nbsp\;\n\nWeitere Information
 en:\nErwartungen und Ziele – Kleines Feedback am Ende eines Kurses\nWas 
 löse ich mit meinen Worten in den Angehörigen aus? Wie weit kann ich geh
 en\, was sagen\, was nicht? Erfasse ich das Wesen des Verstorbenen in all
  seinen Facetten\, seiner Individualität? Wie bewusst bin ich mir\, Wertv
 orstellungen\, Trauer der Angehörigen nicht mit eigenen Wertvorstellunge
 n und eigener Trauer zu überlagern\, gar übergriffig zu sein? Gelingt e
 s mir\, den Verstorbenen und die Angehörigen liebevoll an- und aufzunehm
 en? Bin ich mir der Einzigartigkeit des Verstorbenen und seiner Angehöri
 gen bewusst und wie kann ich ihnen\, in ersten kleinen Schritten Trost un
 d Kraft auf ihrem Weg der Trauer geben? Diese Fragen und Impulse habe ich
  aus dem Seminar für meinen Weg mitnehmen dürfen. Mit viel Dankbarkeit 
 im Herzen und einem guten Gefühl\, künftig als Trauerrednerin wirken zu 
 können\, habe ich den Heimweg angetreten.\nIch habe durch unser achtköpf
 iges Kurs-Team\, das sich zutiefst schätzen gelernt hat\, Vertrauen in me
 in Können gefunden. Ich habe erfahren\, dass das\, was ich ohnehin intui
 tiv liebend gern mache – mit Worten Bilder zu malen – beruflich Bestan
 dteil meines Lebens sein kann. Deshalb kann ich heute\, nach Abschluss mei
 nes Kurses\, sagen: Ich gebe dem Tod liebevoll einen Platz in meinem Leben
 . Ich schaue hin und höre zu. Ich schlage eine Brücke zwischen denen\, d
 ie gegangen sind und denen\, die leben.
CATEGORIES:Fortbildungen und Workshops
LOCATION:Martin-Luther-King-Haus Schmiedeberg\, Lutherplatz 24\, Schmiedebe
 rg\, 01762\, Deutschland
X-APPLE-STRUCTURED-LOCATION;VALUE=URI;X-ADDRESS=Lutherplatz 24\, Schmiedebe
 rg\, 01762\, Deutschland;X-APPLE-RADIUS=100;X-TITLE=Martin-Luther-King-Hau
 s Schmiedeberg:geo:0,0
END:VEVENT
BEGIN:VTIMEZONE
TZID:Europe/Berlin
X-LIC-LOCATION:Europe/Berlin
BEGIN:DAYLIGHT
DTSTART:20260329T030000
TZOFFSETFROM:+0100
TZOFFSETTO:+0200
TZNAME:CEST
END:DAYLIGHT
END:VTIMEZONE
END:VCALENDAR