BEGIN:VCALENDAR
VERSION:2.0
PRODID:-//wp-events-plugin.com//7.2.3.1//EN
TZID:Europe/Berlin
X-WR-TIMEZONE:Europe/Berlin
BEGIN:VEVENT
UID:243@bv-trauerbegleitung.de
DTSTART;TZID=Europe/Berlin;VALUE=DATE:20260615
DTEND;TZID=Europe/Berlin;VALUE=DATE:20271024
DTSTAMP:20260309T095112Z
URL:https://bv-trauerbegleitung.de/veranstaltungen/06-2026-10-2027-grosse-
 basisqualifikation-systemisch-integrative-trauerbegleitung/
SUMMARY:06/2026 – 10/2027 Große Basisqualifikation Systemisch integrativ
 e Trauerbegleitung
DESCRIPTION:Kursleitung: Walburga Schnock-Störmer\, Anna Hupe\n\n&nbsp\;\n
 \nSchwerpunkt: Unsere Qualifizierung in Schwerpunkt Erwachsenentrauerbegl
 eitung vermittelt systemische Begleitung und integrative traumasensible An
 sätze und Methoden\, Trauer in unterschiedlichen Kulturen\, kultursensib
 le Trauerbegleitung (Erwachsene\, Familie\, Systeme)\n\nKosten: 5.000\,00
  Euro Gesamtkosten (darin enthalten: 3.466\,00 Euro Seminargebühr\, 890\,
 00 Euro Verpflegung und 644\,00 Euro Übernachtung)\n\nTermine:\nModul 1: 
 Mo\, 15.06. – Fr\, 19.06.2026\nModul 2: Mo\, 28.09. – Fr\, 02.10.2026\
 nModul 3: Mo\, 01.02. – Fr\, 05.02.2027\nModul 4: Mo\, 10.05. – Fr\, 1
 4.05.2027\nModul 5: Mo\, 18.10. – Fr\, 22.10.2027\n\nTagungsort: Bildun
 gs- und Exerzitienhaus St. Bonifatius Elkeringhausen\n\ninfo@bonifatius-el
 keringhausen.de\n\nWeitere Informationen und Anmeldung:\nWalburga Schnock-
 Störmer\, Tel: 0151 / 12716241\nweiterbildung@leuchtturm-schwerte.de oder
  w.schnock-stoermer@leuchtturm-schwerte.de\n\nDie Qualifizierung findet st
 att in Kooperation von Walburga Schnock-Störmer www.leuchtturm-schwerte.
 de und Anna Hupe www.annahupe.de\n\nWeitere Informationen im Flyer: Flye
 r GB systemisch integrative Trauerbegleitung BSB 06.26 – 10.27 klein
CATEGORIES:Große Basisqualifikation Trauerbegleitung
LOCATION:Bildungs- und Exerzitienhaus St. Bonifatius Elkeringhausen\, Bonif
 atiusweg 1 - 5\, Winterberg-Elkeringhausen\, 59955\, Deutschland
X-APPLE-STRUCTURED-LOCATION;VALUE=URI;X-ADDRESS=Bonifatiusweg 1 - 5\, Winte
 rberg-Elkeringhausen\, 59955\, Deutschland;X-APPLE-RADIUS=100;X-TITLE=Bild
 ungs- und Exerzitienhaus St. Bonifatius Elkeringhausen:geo:0,0
END:VEVENT
BEGIN:VTIMEZONE
TZID:Europe/Berlin
X-LIC-LOCATION:Europe/Berlin
BEGIN:DAYLIGHT
DTSTART:20260329T030000
TZOFFSETFROM:+0100
TZOFFSETTO:+0200
TZNAME:CEST
END:DAYLIGHT
BEGIN:STANDARD
DTSTART:20261025T020000
TZOFFSETFROM:+0200
TZOFFSETTO:+0100
TZNAME:CET
END:STANDARD
BEGIN:DAYLIGHT
DTSTART:20270328T030000
TZOFFSETFROM:+0100
TZOFFSETTO:+0200
TZNAME:CEST
END:DAYLIGHT
END:VTIMEZONE
END:VCALENDAR