BEGIN:VCALENDAR
VERSION:2.0
PRODID:-//wp-events-plugin.com//7.2.3.1//EN
TZID:Europe/Berlin
X-WR-TIMEZONE:Europe/Berlin
BEGIN:VEVENT
UID:245@bv-trauerbegleitung.de
DTSTART;TZID=Europe/Berlin;VALUE=DATE:20260601
DTEND;TZID=Europe/Berlin;VALUE=DATE:20270502
DTSTAMP:20260309T094604Z
URL:https://bv-trauerbegleitung.de/veranstaltungen/06-2026-04-2027-grosse-
 basisqualifikation-trauerbegleitung/
SUMMARY:06/2026 – 04/2027 Große Basisqualifikation Trauerbegleitung
DESCRIPTION: Schwerpunkt: Erwachsene\n\n Kursleitung:\nMarion Zwilling (T
 rauerbegleiterin\, Referentin für Trauerthemen\, Qualifizierende im BVT) 
 und\nSandra Kötter (Trauerbegleiterin (BVT) und Referentin für Trauerbeg
 leitung\, Resilienz- und Entspannungstrainerin)\n\nTagungsort: Ev. Bildung
 shaus Rastede bei Oldenburg / Niedersachsen\n\nKosten: 3.750 Euro incl. Ü
 bernachtung und Verpflegung\n\nWeitere Informationen und Anmeldung: www.h
 vhs.de
CATEGORIES:Große Basisqualifikation Trauerbegleitung
LOCATION:Evangelisches Bildungshaus\, Rastede Mühlenstr. 126\, Rastede\, 2
 6180\, Deutschland
X-APPLE-STRUCTURED-LOCATION;VALUE=URI;X-ADDRESS=Rastede Mühlenstr. 126\, R
 astede\, 26180\, Deutschland;X-APPLE-RADIUS=100;X-TITLE=Evangelisches Bild
 ungshaus:geo:0,0
END:VEVENT
BEGIN:VTIMEZONE
TZID:Europe/Berlin
X-LIC-LOCATION:Europe/Berlin
BEGIN:DAYLIGHT
DTSTART:20260329T030000
TZOFFSETFROM:+0100
TZOFFSETTO:+0200
TZNAME:CEST
END:DAYLIGHT
BEGIN:STANDARD
DTSTART:20261025T020000
TZOFFSETFROM:+0200
TZOFFSETTO:+0100
TZNAME:CET
END:STANDARD
BEGIN:DAYLIGHT
DTSTART:20270328T030000
TZOFFSETFROM:+0100
TZOFFSETTO:+0200
TZNAME:CEST
END:DAYLIGHT
END:VTIMEZONE
END:VCALENDAR