BEGIN:VCALENDAR
VERSION:2.0
PRODID:-//wp-events-plugin.com//7.2.3.1//EN
TZID:Europe/Berlin
X-WR-TIMEZONE:Europe/Berlin
BEGIN:VEVENT
UID:251@bv-trauerbegleitung.de
DTSTART;TZID=Europe/Berlin;VALUE=DATE:20260508
DTEND;TZID=Europe/Berlin;VALUE=DATE:20270216
DTSTAMP:20260309T064651Z
URL:https://bv-trauerbegleitung.de/veranstaltungen/05-26-02-27-grosse-basi
 squalifikation-begleitung-durch-zeiten-von-abschied-und-trauer/
SUMMARY:05/26 – 02/27 Große Basisqualifikation – Begleitung durch Zei
 ten von Abschied und Trauer
DESCRIPTION:Aufgeteilt in 2 Stufen (siehe Flyer)\n\nKursleitung: Brigitte W
 örner\, Diana Koll\, Dr. Anja Faber\n\nSchwerpunkt: Erwachsene\n\nKosten:
  2.050\,00 €\n\nTagungsort: Mannheim Ökumenisches Bildungszentrum sanct
 clara und Bildungshuas Bruder Klaus in Mosbach – Neckarelz (Odenwald\, d
 ort mit insgesamt 5 Übernachtungen und Vollpension) Im Seminarpreis inklu
 diert\n\nKontakt: Brigitte Wörner\nE-Mail: b-woerner@web.de\nTelefon: 016
 0 96206288\nWebsite: www.sanctclara.de\n\nWeitere Informationen: 2026 Trau
 erbegleitung – Brigitte Wörner ( https://bv-trauerbegleitung.de/wp-cont
 ent/uploads/2026/01/2026-Trauerbegleitung-Brigitte-Woerner.pdf )\n\nAnmeld
 eunterlagen können über das Büro „sanctclara“ angefordert werden\n\
 nTelefon: 0621-17857-0\n\nE-Mail: service@sanctclara.de
CATEGORIES:Große Basisqualifikation Trauerbegleitung
LOCATION:Ökumenisches Bildungszentrum sanctclara\, B 5\,19\, Mannheim\, 68
 159\, Deutschland
X-APPLE-STRUCTURED-LOCATION;VALUE=URI;X-ADDRESS=B 5\,19\, Mannheim\, 68159\
 , Deutschland;X-APPLE-RADIUS=100;X-TITLE=Ökumenisches Bildungszentrum san
 ctclara:geo:0,0
END:VEVENT
BEGIN:VTIMEZONE
TZID:Europe/Berlin
X-LIC-LOCATION:Europe/Berlin
BEGIN:DAYLIGHT
DTSTART:20260329T030000
TZOFFSETFROM:+0100
TZOFFSETTO:+0200
TZNAME:CEST
END:DAYLIGHT
BEGIN:STANDARD
DTSTART:20261025T020000
TZOFFSETFROM:+0200
TZOFFSETTO:+0100
TZNAME:CET
END:STANDARD
END:VTIMEZONE
END:VCALENDAR