BEGIN:VCALENDAR
VERSION:2.0
PRODID:-//wp-events-plugin.com//7.2.3.1//EN
TZID:Europe/Berlin
X-WR-TIMEZONE:Europe/Berlin
BEGIN:VEVENT
UID:332@bv-trauerbegleitung.de
DTSTART;TZID=Europe/Berlin:20260410T000000
DTEND;TZID=Europe/Berlin:20270927T000000
DTSTAMP:20260306T110453Z
URL:https://bv-trauerbegleitung.de/veranstaltungen/04-26-09-27-grosse-basi
 squalifikation-systemische-trauerbegleitung/
SUMMARY:04/26 – 09/27 Große Basisqualifikation – Systemische Trauerbeg
 leitung
DESCRIPTION:Leitung: Anke Grimm und Heike Jost\n\nSeminarinhalte:\no Selbst
 reflexion: Eigene Erfahrungen mit Verlust\, Abschied und Trauer\no Grundla
 gen der systemischen Arbeit\no Trauermodelle und Trauertheorien\no Systemi
 sche Gesprächsführung\no Trauerprozesse unter systemischer Betrachtung\n
 o Trauer in verschiedenen Lebensaltern\no Trauerbegleitung praktisch – (
 systemisches) und praktisches\nHandwerkszeug für die Begleitung von Traue
 rnden\no Lösungs- und ressourcenorientierte Trauerbegleitung\no Erschwert
 e und komplizierte Trauerprozesse (Suizid\, Risikotrauer\, Trauma)\no Eige
 nes Rollenverständnis und Selbstfürsorge\no Praxistransfer\no Projektpr
 äsentation mit Kolloquium und Zertifikatsübergabe\n\nEs geht bei dieser 
 Qualifizierung sowohl um Selbstreflexion\, theoretische Hintergründe und 
 Wissensvermittlung im Themenkomplex Trauer\, um systemische Aspekte sowie 
 um praktisches Handwerkszeug für die Begleitung von Trauernden.\n\nDie We
 iterbildung findet berufsbegleitend statt. Sie besteht aus 8 Wochenenden\,
  Arbeit in Intervisionsgruppen\, Erstellung von zwei Rezensionen\, einem P
 rojekt\, einer schriftlichen Abschlussarbeit\, der Projektpräsentation un
 d dem Kolloquium.\nSie umfasst insgesamt 250 UST.\n\nAm Ende der Weiterbil
 dung erhalten die Teilnehmenden ein Zertifikat. Die Weiterbildung wird nac
 h den Qualitätsstandards des Bundesverbandes Trauerbegleitung e.V. (BVT) 
 durchgeführt und ist als Große Basisqualifikation anerkannt.\n\nDas ausf
 ührliche Curriculum erhalten Sie bei Lisa Söder unter lisa.soeder@dachst
 iftung-diakonie.de\n\nBei Fragen zu den Inhalten wenden Sie sich gerne an 
 Anke Grimm unter praxisgrimm@icloud.com oder Heike Jost unter heikejost@h-
 jost.de\n\nGesamtkosten: 3.960\,- € Seminargebühren (inkl. Material) zz
 gl. Übernachtung und Verpflegung. Die Übernachtungs- und Verpflegungspre
 ise können sich 2027 leicht erhöhen.\n\nAnmeldeschluss: 20.02.2026\n\nBe
 ginn Modul I: 10.04.2026\, 14:00-21:30 Uhr\, Ende: 12.04.2026\, 09:00-14:
 00 Uhr\n\nKostenbeitrag: 195\,- € Ü/V/EZ + 495\,- € Seminargebühr p
 ro Modul\n\nWeitere Termine: Modul II: 26.- 28.06.2026\, Modul III: 11.-13
 .09.26\, Modul IV: 06.-08.11.26\, Modul V: 05.-07.02.2027\, Modul VI: 16.-
 18.04.2027\, Modul VII: 02.-04.07.27\, Modul VIII: 24.-26.09.27\n\nVeranst
 altungsort: DiaCampus Zentrum für Erwachsenenbildung gemeinnützige GmbH
  Tagungs- und Gästehaus\, Kirchröder Straße 44\, 30625 Hannover\n\nDie
  Anmeldung ist verbindlich und gilt für acht Module. Eine Rechnung über 
 die Seminargebühr in Höhe von 495\,- € sowie den Kosten für Unterbrin
 gung im Einzelzimmer und Vollverpflegung erfolgt nach jedem Modul.\n\nNach
  der Anmeldung erhalten Sie neben der Anmeldebestätigung auch einen Weite
 rbildungsvertrag.\nDie einzelnen Seminare sind als Bildungsurlaube anerkan
 nt.\nDie Weiterbildung erfolgt in Kooperation mit dem Systemischen Institu
 t.\n\nPäd. Verantwortung: Lisa Söder\nVerwaltung: Benita Bisgwa\, Tel.
 :0511 5353-611\, Email: seminare@zeb.stephansstift.de \n\nFür weitere In
 formationen:\n\nwww.dachstiftung-diakonie.de/gesellschaften/stephansstift-
 zentrum-fuer-erwachsenenbildung-zeb/seminareprojekte/details/seminar/weite
 rbildung-systemische-trauerbegleitung-256047440/ 
CATEGORIES:Große Basisqualifikation Trauerbegleitung
LOCATION:DiaCampus Zentrum für Erwachsenenbildung gemeinnützige GmbH Tagu
 ngs- und Gästehaus\, Kirchröder Straße 44\, Hannover\, 30625\, Deutschl
 and
X-APPLE-STRUCTURED-LOCATION;VALUE=URI;X-ADDRESS=Kirchröder Straße 44\, Ha
 nnover\, 30625\, Deutschland;X-APPLE-RADIUS=100;X-TITLE=DiaCampus Zentrum 
 für Erwachsenenbildung gemeinnützige GmbH Tagungs- und Gästehaus:geo:0,
 0
END:VEVENT
BEGIN:VTIMEZONE
TZID:Europe/Berlin
X-LIC-LOCATION:Europe/Berlin
BEGIN:DAYLIGHT
DTSTART:20260329T030000
TZOFFSETFROM:+0100
TZOFFSETTO:+0200
TZNAME:CEST
END:DAYLIGHT
BEGIN:STANDARD
DTSTART:20261025T020000
TZOFFSETFROM:+0200
TZOFFSETTO:+0100
TZNAME:CET
END:STANDARD
BEGIN:DAYLIGHT
DTSTART:20270328T030000
TZOFFSETFROM:+0100
TZOFFSETTO:+0200
TZNAME:CEST
END:DAYLIGHT
END:VTIMEZONE
END:VCALENDAR