BEGIN:VCALENDAR
VERSION:2.0
PRODID:-//wp-events-plugin.com//7.2.3.1//EN
TZID:Europe/Berlin
X-WR-TIMEZONE:Europe/Berlin
BEGIN:VEVENT
UID:344@bv-trauerbegleitung.de
DTSTART;TZID=Europe/Berlin:20260423T000000
DTEND;TZID=Europe/Berlin:20270424T000000
DTSTAMP:20260306T111656Z
URL:https://bv-trauerbegleitung.de/veranstaltungen/04-2026-bis-04-2027-gro
 sse-basisqualifikation-zum-zur-trauerbegleiter-in/
SUMMARY:04/2026 bis 04/2027 Große Basisqualifikation zum/zur Trauerbegleit
 er/in
DESCRIPTION:Kursleitung: Dr. Tanja M. Brinkmann\, Irina Darscht\n\nSchwerpu
 nkt: Erwachsene\n\nTagungsort: St. Antoniushaus Vechta\, Klingenhagen 6\, 
 49377 Vechta\n\nKontakt-Organisation: Kathrin Scheper – Fachbereich Pfle
 ge und Begleitung\n\nTel.: 04471-9108-45\n\nE-Mail: kscheper@bildungswerk-
 clp.de\n\nKosten: 3.375\,00 Euro zzgl. 1.600\,00 Euro für Übernachtung u
 nd Verpflegung\n\nAnmeldungen: bei Frau Scheper – siehe Kontaktdaten\n\n
 Anmeldeschluss: 13.02.2026\n\nVeranstalter: Bildungswerk Cloppenburg-Garre
 l e.V.\, Graf-Stauffenberg-Str. 1-5\, 49661 Cloppenburg\nTel.: 04471-9108-
 0\nFax: 04471-9108-50\nInternet: www.bildungswerk-clp.de\nE-Mail: verwaltu
 ng@bildungswerk-clp.de\n2026 Flyer GBQ Trauerbegleitung 
CATEGORIES:Große Basisqualifikation Trauerbegleitung
LOCATION:Bildungswerk Cloppenburg-Garrel e.V.\, Graf-Stauffenberg-Str. 1-5\
 , Cloppenburg\, 49661\, Deutschland
X-APPLE-STRUCTURED-LOCATION;VALUE=URI;X-ADDRESS=Graf-Stauffenberg-Str. 1-5\
 , Cloppenburg\, 49661\, Deutschland;X-APPLE-RADIUS=100;X-TITLE=Bildungswer
 k Cloppenburg-Garrel e.V.:geo:0,0
END:VEVENT
BEGIN:VTIMEZONE
TZID:Europe/Berlin
X-LIC-LOCATION:Europe/Berlin
BEGIN:DAYLIGHT
DTSTART:20260329T030000
TZOFFSETFROM:+0100
TZOFFSETTO:+0200
TZNAME:CEST
END:DAYLIGHT
BEGIN:STANDARD
DTSTART:20261025T020000
TZOFFSETFROM:+0200
TZOFFSETTO:+0100
TZNAME:CET
END:STANDARD
BEGIN:DAYLIGHT
DTSTART:20270328T030000
TZOFFSETFROM:+0100
TZOFFSETTO:+0200
TZNAME:CEST
END:DAYLIGHT
END:VTIMEZONE
END:VCALENDAR