BEGIN:VCALENDAR
VERSION:2.0
PRODID:-//wp-events-plugin.com//7.2.3.1//EN
TZID:Europe/Berlin
X-WR-TIMEZONE:Europe/Berlin
BEGIN:VEVENT
UID:300@bv-trauerbegleitung.de
DTSTART;TZID=Europe/Berlin;VALUE=DATE:20260323
DTEND;TZID=Europe/Berlin;VALUE=DATE:20261206
DTSTAMP:20260306T105717Z
URL:https://bv-trauerbegleitung.de/veranstaltungen/03-2026-12-2026-grosse-
 basisqualifikation-traumasensible-systemische-trauerbegleitung/
SUMMARY:03/2026 – 12/2026 Große Basisqualifikation: Traumasensible syste
 mische Trauerbegleitung
DESCRIPTION:Kursleitung: Dr. Franziska Offermann\, Birgit Schuder\n\nSchwer
 punkt: Erwachsene\, Familien\, Systeme\n\nKosten: 3300\,00 € (Seminargeb
 ühr\, zzgl. Umsatzsteuer\, Übernachtung und Verpflegung)\n\nTagungsort: 
 Villa K am Starnberger See\, www.villa-k.org \n\nKontakt und Anmeldung:\n
 \nLucera\, Dr. Franziska Offermann\n\nhttps://lucera.de/trauerbegleiteraus
 bildung/\n\nTelefon: 089/ 87788485\n\nE-Mail: trauerbegleitungsausbildung@
 lucera.de \n\nLucera Traumasensible Systemische Trauerbegleitung Qualifiz
 ierung Trauerbegleitung Flyer 2026_2027
CATEGORIES:Große Basisqualifikation Trauerbegleitung
LOCATION:Villa K\, Starnberger See\, Ferdinand-von-Miller-Straße 7\, 82343
  Pöcking\, Deutschland
X-APPLE-STRUCTURED-LOCATION;VALUE=URI;X-ADDRESS=Ferdinand-von-Miller-Straß
 e 7\, 82343 Pöcking\, Deutschland;X-APPLE-RADIUS=100;X-TITLE=Villa K\, St
 arnberger See:geo:0,0
END:VEVENT
BEGIN:VTIMEZONE
TZID:Europe/Berlin
X-LIC-LOCATION:Europe/Berlin
BEGIN:STANDARD
DTSTART:20251026T020000
TZOFFSETFROM:+0200
TZOFFSETTO:+0100
TZNAME:CET
END:STANDARD
BEGIN:DAYLIGHT
DTSTART:20260329T030000
TZOFFSETFROM:+0100
TZOFFSETTO:+0200
TZNAME:CEST
END:DAYLIGHT
BEGIN:STANDARD
DTSTART:20261025T020000
TZOFFSETFROM:+0200
TZOFFSETTO:+0100
TZNAME:CET
END:STANDARD
END:VTIMEZONE
END:VCALENDAR